{"text_format":"1","workbook":"xlsx","n_sheets":5,"sheets":["ENTRATE","Zona di Carico","STATS S.","TARE","MERCI"],"not_rendered":{"charts":0,"images":14,"macros":1,"external_links":0,"defined_names":2,"comments":1,"pivot_tables":0},"unopened":[],"bounds":{"document_bytes":16777216,"sheet_cells":100000,"rows_first":2000,"rows_last":500,"rows_between":2000,"halvings":0,"cell_chars":16384,"cell_head_chars":4096},"cells_cut":0,"cells_raw":0,"read":"whole","date_system":"1900"}

{"sheet":"ENTRATE","index":0,"n_rows":201,"n_cols":38,"rows_kept":201,"cut":false,"hidden":false,"merged":[[16,34,16,37],[18,34,18,37],[20,34,20,37],[8,33,8,39],[10,34,10,37],[12,34,12,37],[14,34,14,37],[18,19,18,20],[20,19,20,20],[0,8,0,10],[0,18,0,19],[5,19,5,20],[16,19,16,20],[12,26,12,28],[10,26,10,28],[16,26,16,28],[8,25,8,31],[7,19,7,21],[1,18,1,23],[3,19,3,20],[14,26,14,28],[14,19,14,20],[12,19,12,21],[10,19,10,20],[9,19,9,20],[11,19,11,20],[53,18,53,20],[54,19,54,20],[55,18,55,20],[56,19,56,20],[57,18,57,20],[22,26,22,28],[20,26,20,28],[18,26,18,28],[26,26,26,28],[28,26,28,28],[30,26,30,28],[32,26,32,28],[37,18,37,22],[24,26,24,28],[34,19,34,20],[36,18,36,20],[34,26,34,28],[36,26,36,37],[28,19,28,20],[30,19,30,20],[32,19,32,20],[22,19,22,20],[24,19,24,20],[26,19,26,20],[39,18,39,20],[40,19,40,20],[41,18,41,20],[42,19,42,20],[48,19,48,20],[49,18,49,20],[50,19,50,20],[51,18,51,20],[52,19,52,20],[58,19,58,20],[59,18,59,20],[60,19,60,20],[61,18,61,20],[62,19,62,20],[46,26,46,27],[44,26,44,37],[48,26,48,27],[38,26,38,27],[40,26,40,27],[42,26,42,27],[46,28,46,32],[48,28,48,32],[38,28,38,32],[38,33,38,35],[42,28,42,32],[40,28,40,32],[46,33,46,35],[38,19,38,20],[44,19,44,20],[45,18,45,20],[46,19,46,20],[47,18,47,20],[43,18,43,20],[78,19,78,20],[79,18,79,20],[80,19,80,20],[81,18,81,20],[73,18,73,20],[74,19,74,20],[75,18,75,20],[76,19,76,20],[77,18,77,20],[68,19,68,20],[69,18,69,20],[70,19,70,20],[71,18,71,20],[72,19,72,20],[63,18,63,20],[64,19,64,20],[65,18,65,20],[66,19,66,20],[67,18,67,20]]}
["N","TARGA","VETTORE","E","TARA ","CLIENTE","N","MERCE",null,null,null,"S1","S2","NOTE/SEGNALAZIONI","ORDINE","ZONA","N"]
[1,null,null,null,null,null,null,null,{"$f":"IF(H2<>\"\", IF(I2=\"\", NOW(), I2), \"\")","v":""},null,{"$f":"IF(L2<>\"\", IF(K2=\"\", NOW(), K2), \"\")","v":""},null,null,{"$f":"IF(OR(AND(B2=$T$39,F2=$S$40,B2<>\"\",F2<>\"\"),AND(B2=$T$41,F2=$S$42,B2<>\"\",F2<>\"\"),AND(B2=$T$43,F2=$S$44,B2<>\"\",F2<>\"\"),AND(B2=$T$45,F2=$S$46,B2<>\"\",F2<>\"\"),AND(B2=$T$47,F2=$S$48,B2<>\"\",F2<>\"\"),AND(B2=$T$49,F2=$S$50,B2<>\"\",F2<>\"\"),AND(B2=$T$51,F2=$S$52,B2<>\"\",F2<>\"\"),AND(B2=$T$53,F2=$S$54,B2<>\"\",F2<>\"\"),AND(B2=$T$55,F2=$S$56,B2<>\"\",F2<>\"\"),AND(B2=$T$57,F2=$S$58,B2<>\"\",F2<>\"\"),AND(B2=$T$59,F2=$S$60,B2<>\"\",F2<>\"\"),AND(B2=$T$61,F2=$S$62,B2<>\"\",F2<>\"\"),AND(B2=$T$63,F2=$S$64,B2<>\"\",F2<>\"\"),AND(B2=$T$65,F2=$S$66,B2<>\"\",F2<>\"\"),AND(B2=$T$67,F2=$S$68,B2<>\"\",F2<>\"\"),AND(B2=$T$69,F2=$S$70,B2<>\"\",F2<>\"\"),AND(B2=$T$71,F2=$S$72,B2<>\"\",F2<>\"\"),AND(B2=$T$73,F2=$S$74,B2<>\"\",F2<>\"\"),AND(B2=$T$75,F2=$S$76,B2<>\"\",F2<>\"\"),AND(B2=$T$77,F2=$S$78,B2<>\"\",F2<>\"\"),AND(B2=$T$79,F2=$S$80,B2<>\"\",F2<>\"\"),AND(B2=$T$81,F2=$S$82,B2<>\"\",F2<>\"\")),\"TRASFERIMENTO\",\"\")","v":""},null,null,null,null,"STATISTICHE GIORNALIERE"]
[2,null,null,null,null,null,null,null,{"$f":"IF(H3<>\"\", IF(I3=\"\", NOW(), I3), \"\")","v":""},null,{"$f":"IF(L3<>\"\", IF(K3=\"\", NOW(), K3), \"\")","v":""},null,null,""]
[3,null,null,null,null,null,null,null,"",null,{"$f":"IF(L4<>\"\", IF(K4=\"\", NOW(), K4), \"\")","v":""},null,null,"",null,null,null,null,null,"Totale camion entrati",null,null,{"$f":"COUNT(I2:I201)","v":0}]
[4,null,null,null,null,null,null,null,"",null,"",null,null,""]
[5,null,null,null,null,null,null,null,"",null,"",null,null,"",null,null,null,null,null,"Totale Camion usciti",null,null,{"$f":"COUNT(K2:K201)","v":0}]
[6,null,null,null,null,null,null,null,"",null,"",null,null,""]
[7,null,null,null,null,null,null,null,"",null,"",null,null,"",null,null,null,null,null,"Totale camion dentro: ",null,null,{"$f":"W4-W6","v":0}]
[8,null,null,null,null,null,null,null,"",null,"",null,null,"",null,null,null,null,null,null,null,null,null,"IN","DIF","LEGENDA PER NOTE E SEGNALAZIONI",null,null,null,null,null,null,null,"LEGENDA PER NOTE AGGIUNTIVE"]
[9,null,null,null,null,null,null,null,"",null,"",null,null,"",null,null,null,null,null,"BANDA STA",null,null,{"$f":"COUNTIF(H2:H201,\"BANDA STA\")","v":0},{"$f":"COUNTIFS(H2:H201,\"=BANDA STA\", K2:K201,\">0\")","v":0},{"$f":"W10-X10","v":0}]
[10,null,null,null,null,null,null,null,"",null,"",null,null,"",null,null,null,null,null,"PROFILI ACC",null,null,{"$f":"COUNTIF(H2:H201,\"PROFILI ACC\")","v":0},{"$f":"COUNTIFS(H2:H201,\"=PROFILI ACC\", K2:K201,\">0\")","v":0},{"$f":"W11-X11","v":0},null,"PRENOTAZIONE FASULLA ",null,null,null,{"$f":"COUNTIF(N2:N201,\"PRENOTAZIONE FASULLA\")","v":0},null,null,null,"SCARICO SETRAMAR"]
[11,null,null,null,null,null,null,null,"",null,"",null,null,"",null,null,null,null,null,"PARTI PRESSE",null,null,{"$f":"COUNTIF(H2:H201,\"PARTI PRESSE\")","v":0},{"$f":"COUNTIFS(H2:H201,\"=PARTI PRESSE\", K2:K201,\">0\")","v":0},{"$f":"W12-X12","v":0}]
[12,null,null,null,null,null,null,null,"",null,"",null,null,"",null,null,null,null,null,null,null,null,null,null,null,null,"ASSENTE ",null,null,null,{"$f":"COUNTIF(N2:N201,\"ASSENTE\")","v":0},null,null,null,"BUONO ANTICIPATO"]
[13,null,null,null,null,null,null,null,"",null,"",null,null,""]
[14,null,null,null,null,null,null,null,"",null,"",null,null,"",null,null,null,null,null,"GHISA",null,null,{"$f":"COUNTIF(H2:H201,\"GHISA\")","v":0},{"$f":"COUNTIFS(H2:H201,\"=GHISA\", K2:K201,\">0\")","v":0},{"$f":"W15-X15","v":0},null,"T1",null,null,null,{"$f":"COUNTIF(N2:N201,\"T1\")","v":0},null,null,null,"TUTTO IL GIORNO"]
[15,null,null,null,null,null,null,null,"",null,"",null,null,""]
[16,null,null,null,null,null,null,null,"",null,"",null,null,"",null,null,null,null,null,"Totale Camion Coils",null,null,{"$f":"COUNTIF(H2:H201,\"COILS\")","v":0},{"$f":"COUNTIFS(H2:H201,\"=COILS\", K2:K201,\">0\")","v":0},{"$f":"W17-X17","v":0},null,"INOX",null,null,null,{"$f":"COUNTIF(N2:N201,\"INOX\")","v":0},null,null,null,"MANCA PRATICA"]
[17,null,null,null,null,null,null,null,"",null,"",null,null,""]
[18,null,null,null,null,null,null,null,"",null,"",null,null,"",null,null,null,null,null,"Totale Camion Lamiere",null,null,{"$f":"COUNTIF(H2:H201,\"LAMIERE\")","v":0},{"$f":"COUNTIFS(H2:H201,\"=LAMIERE\",K2:K201,\">0\")","v":0},{"$f":"W19-X19","v":0},null,"CAMBIO BOLLA ",null,null,null,{"$f":"COUNTIF(N2:N201,\"CAMBIO BOLLA\")","v":0},null,null,null,"TELEFONA AL CLIENTE "]
[19,null,null,null,null,null,null,null,"",null,"",null,null,""]
[20,null,null,null,null,null,"C",null,"",null,"",null,null,"",null,null,null,null,null,"Totale Camion Barre",null,null,{"$f":"COUNTIF(H2:H201,\"BARRE\")","v":0},{"$f":"COUNTIFS(H2:H201,\"=BARRE\", K2:K201,\">0\")","v":0},{"$f":"W21-X21","v":0},null,"NON CARICATO",null,null,null,{"$f":"COUNTIF(N2:N201,\"NON CARICATO\")","v":0}]
[21,null,null,null,null,null,null,null,"",null,"",null,null,"",null,null,21]
[22,null,null,null,null,null,null,null,"",null,"",null,null,"",null,null,22,null,null,"Totale Camion Blumi",null,null,{"$f":"COUNTIF(H2:H201,\"BLUMI\")","v":0},{"$f":"COUNTIFS(H2:H201,\"=BLUMI\", K2:K201,\">0\")","v":0},{"$f":"W23-X23","v":0},null,"2 VIAGGI",null,null,null,{"$f":"COUNTIF(N2:N201,\"2 VIAGGI\")","v":0}]
[23,null,null,null,null,null,null,null,"",null,"",null,null,"",null,null,23]
[24,null,null,null,null,null,null,null,"",null,"",null,null,"",null,null,24,null,null,"Totale Camion Vergella",null,null,{"$f":"COUNTIF(H2:H201,\"VERGELLA\")","v":0},{"$f":"COUNTIFS(H2:H201,\"=VERGELLA\",K2:K201,\">0\")","v":0},{"$f":"W25-X25","v":0},null,"PRECEDENZA",null,null,null,{"$f":"COUNTIF(N2:N201,\"PRECEDENZA\")","v":0}]
[25,null,null,{"$f":"IFERROR(VLOOKUP(B26,TARE!C:E,3,0),\"\")","v":""},{"$f":"IFERROR(VLOOKUP(B26,TARE!C:E,2,0),\"\")","v":""},null,null,null,"",null,"",null,null,"",null,null,25]
[26,null,null,null,null,null,null,null,"",null,"",null,null,"",null,null,26,null,null,"Totale Camion Bulbi",null,null,{"$f":"COUNTIF(H2:H201,\"BULBI\")","v":0},{"$f":"COUNTIFS(H2:H201,\"=BULBI\", K2:K201,\">0\")","v":0},{"$f":"W27-X27","v":0},null,"MANCA TARGA ",null,null,null,{"$f":"COUNTIF(N2:N201,\"MANCA TARGA\")","v":0}]
[27,null,null,{"$f":"IFERROR(VLOOKUP(B28,TARE!C:E,3,0),\"\")","v":""},{"$f":"IFERROR(VLOOKUP(B28,TARE!C:E,2,0),\"\")","v":""},null,null,null,"",null,"",null,null,"",null,null,27]
[28,null,null,{"$f":"IFERROR(VLOOKUP(B29,TARE!C:E,3,0),\"\")","v":""},{"$f":"IFERROR(VLOOKUP(B29,TARE!C:E,2,0),\"\")","v":""},null,null,null,"",null,"",null,null,"",null,null,28,null,null,"Totale Camion Tubi",null,null,{"$f":"COUNTIF(H2:H201,\"TUBI\")","v":0},{"$f":"COUNTIFS(H2:H201,\"=TUBI\",K2:K201,\">0\")","v":0},{"$f":"W29-X29","v":0},null,"NON IDONEO",null,null,null,{"$f":"COUNTIF(N2:N201,\"NON IDONEO\")","v":0}]
[29,null,null,{"$f":"IFERROR(VLOOKUP(B30,TARE!C:E,3,0),\"\")","v":""},{"$f":"IFERROR(VLOOKUP(B30,TARE!C:E,2,0),\"\")","v":""},null,null,null,"",null,"",null,null,"",null,null,29]
[30,null,null,{"$f":"IFERROR(VLOOKUP(B31,TARE!C:E,3,0),\"\")","v":""},{"$f":"IFERROR(VLOOKUP(B31,TARE!C:E,2,0),\"\")","v":""},null,null,null,"",null,"",null,null,"",null,null,30,null,null,"Totale Camion Palancole",null,null,{"$f":"COUNTIF(H2:H201,\"PALANCOLE\")","v":0},{"$f":"COUNTIFS(H2:H201,\"=PALANCOLE\", K2:K201,\">0\")","v":0},{"$f":"W31-X31","v":0},null,"SCARICA",null,null,null,{"$f":"COUNTIF(N2:N201,\"SCARICA\")","v":0}]
[31,null,null,{"$f":"IFERROR(VLOOKUP(B32,TARE!C:E,3,0),\"\")","v":""},{"$f":"IFERROR(VLOOKUP(B32,TARE!C:E,2,0),\"\")","v":""},null,null,null,"",null,"",null,null,"",null,null,31]
[32,null,null,{"$f":"IFERROR(VLOOKUP(B33,TARE!C:E,3,0),\"\")","v":""},{"$f":"IFERROR(VLOOKUP(B33,TARE!C:E,2,0),\"\")","v":""},null,null,null,"",null,"",null,null,"",null,null,32,null,null,"Totale Camion Tronchi",null,null,{"$f":"COUNTIF(H4:H201,\"TRONCHI\")","v":0},{"$f":"COUNTIFS(H2:H201,\"=TRONCHI\", K2:K201,\">0\")","v":0},{"$f":"W33-X33","v":0},null,"CAMBIO TARGA AL CARICO",null,null,null,{"$f":"COUNTIF(N2:N201,\"CAMBIO TARGA AL CARICO\")","v":0}]
[33,null,null,null,null,null,null,null,"",null,"",null,null,"",null,null,33]
[34,null,null,{"$f":"IFERROR(VLOOKUP(B35,TARE!C:E,3,0),\"\")","v":""},{"$f":"IFERROR(VLOOKUP(B35,TARE!C:E,2,0),\"\")","v":""},null,null,null,"",null,"",null,null,"",null,null,34,null,null,"Totale Camion Eccezionali",null,null,{"$f":"COUNTIF(D4:D201,\"E\")","v":0},null,null,null,"USCITO SENZA BOLLA",null,null,null,{"$f":"COUNTIF(N2:N201,\"USCITO SENZA BOLLA\")","v":0}]
[35,null,null,{"$f":"IFERROR(VLOOKUP(B36,TARE!C:E,3,0),\"\")","v":""},{"$f":"IFERROR(VLOOKUP(B36,TARE!C:E,2,0),\"\")","v":""},null,null,null,"",null,"",null,null,"",null,null,35]
[36,null,null,{"$f":"IFERROR(VLOOKUP(B37,TARE!C:E,3,0),\"\")","v":""},{"$f":"IFERROR(VLOOKUP(B37,TARE!C:E,2,0),\"\")","v":""},null,null,null,"",null,"",null,null,"",null,null,36,null,"TRASFERIMENTO",null,null,null,{"$f":"COUNTIF(N2:N201,\"TRASFERIMENTO\")","v":0},null,null,null,"Ricerca a 3 fattori variabili"]
[37,null,null,{"$f":"IFERROR(VLOOKUP(B38,TARE!C:E,3,0),\"\")","v":""},{"$f":"IFERROR(VLOOKUP(B38,TARE!C:E,2,0),\"\")","v":""},null,null,null,"",null,"",null,null,"",null,null,37,null,"CONTEGGIO VIAGGI PER MEZZO"]
[38,null,null,{"$f":"IFERROR(VLOOKUP(B39,TARE!C:E,3,0),\"\")","v":""},{"$f":"IFERROR(VLOOKUP(B39,TARE!C:E,2,0),\"\")","v":""},null,null,null,"",null,"",null,null,"",null,null,38,null,"1° MEZZO",null,null,null,{"$f":"COUNTIFS($B$2:$B$201,T39, $N$2:$N$201,$S$37,$F$2:$F$201,S40)","v":0},null,null,null,"Inserisci nome CLIENTE",null,null,null,null,null,null,"Nr di Camion entrati",null,null,null,{"$f":"COUNTIFS(F2:F201,AC39, C2:C201,AC41, H2:H201,AC43)","v":0}]
[39,null,null,{"$f":"IFERROR(VLOOKUP(B40,TARE!C:E,3,0),\"\")","v":""},{"$f":"IFERROR(VLOOKUP(B40,TARE!C:E,2,0),\"\")","v":""},null,null,null,"",null,"",null,null,"",null,null,39]
[40,null,null,{"$f":"IFERROR(VLOOKUP(B41,TARE!C:E,3,0),\"\")","v":""},{"$f":"IFERROR(VLOOKUP(B41,TARE!C:E,2,0),\"\")","v":""},null,null,null,"",null,"",null,null,"",null,null,40,null,"2° MEZZO",null,null,null,{"$f":"COUNTIFS($B$2:$B$201,T41, $N$2:$N$201,$S$37,$F$2:$F$201,S42)","v":0},null,null,null,"Inserisci nome VETTORE"]
[41,null,null,{"$f":"IFERROR(VLOOKUP(B42,TARE!C:E,3,0),\"\")","v":""},{"$f":"IFERROR(VLOOKUP(B42,TARE!C:E,2,0),\"\")","v":""},null,null,null,"",null,"",null,null,"",null,null,41]
[42,null,null,{"$f":"IFERROR(VLOOKUP(B43,TARE!C:E,3,0),\"\")","v":""},{"$f":"IFERROR(VLOOKUP(B43,TARE!C:E,2,0),\"\")","v":""},null,null,null,"",null,"",null,null,"",null,null,42,null,"3° MEZZO",null,null,null,{"$f":"COUNTIFS($B$2:$B$201,T43, $N$2:$N$201,$S$37,$F$2:$F$201,S44)","v":0},null,null,null,"Inserisci tipo MERCE"]
[43,null,null,{"$f":"IFERROR(VLOOKUP(B44,TARE!C:E,3,0),\"\")","v":""},{"$f":"IFERROR(VLOOKUP(B44,TARE!C:E,2,0),\"\")","v":""},null,null,null,"",null,"",null,null,"",null,null,43]
[44,null,null,{"$f":"IFERROR(VLOOKUP(B45,TARE!C:E,3,0),\"\")","v":""},{"$f":"IFERROR(VLOOKUP(B45,TARE!C:E,2,0),\"\")","v":""},null,null,null,"",null,"",null,null,"",null,null,44,null,"4° MEZZO",null,null,null,{"$f":"COUNTIFS($B$2:$B$201,T45, $N$2:$N$201,$S$37,$F$2:$F$201,S46)","v":0},null,null,null,"Ricerca a 2 fattori variabili "]
[45,null,null,{"$f":"IFERROR(VLOOKUP(B46,TARE!C:E,3,0),\"\")","v":""},{"$f":"IFERROR(VLOOKUP(B46,TARE!C:E,2,0),\"\")","v":""},null,45,null,"",null,"",null,null,{"$f":"IF(OR(AND(B46=$T$39,F46=$S$40,B46<>\"\",F46<>\"\"),AND(B46=$T$41,F46=$S$42,B46<>\"\",F46<>\"\"),AND(B46=$T$43,F46=$S$44,B46<>\"\",F46<>\"\"),AND(B46=$T$45,F46=$S$46,B46<>\"\",F46<>\"\"),AND(B46=$T$47,F46=$S$48,B46<>\"\",F46<>\"\"),AND(B46=$T$49,F46=$S$50,B46<>\"\",F46<>\"\"),AND(B46=$T$51,F46=$S$52,B46<>\"\",F46<>\"\"),AND(B46=$T$53,F46=$S$54,B46<>\"\",F46<>\"\"),AND(B46=$T$55,F46=$S$56,B46<>\"\",F46<>\"\"),AND(B46=$T$57,F46=$S$58,B46<>\"\",F46<>\"\"),AND(B46=$T$59,F46=$S$60,B46<>\"\",F46<>\"\"),AND(B46=$T$61,F46=$S$62,B46<>\"\",F46<>\"\"),AND(B46=$T$63,F46=$S$64,B46<>\"\",F46<>\"\"),AND(B46=$T$65,F46=$S$66,B46<>\"\",F46<>\"\"),AND(B46=$T$67,F46=$S$68,B46<>\"\",F46<>\"\"),AND(B46=$T$69,F46=$S$70,B46<>\"\",F46<>\"\"),AND(B46=$T$71,F46=$S$72,B46<>\"\",F46<>\"\"),AND(B46=$T$73,F46=$S$74,B46<>\"\",F46<>\"\"),AND(B46=$T$75,F46=$S$76,B46<>\"\",F46<>\"\"),AND(B46=$T$77,F46=$S$78,B46<>\"\",F46<>\"\"),AND(B46=$T$79,F46=$S$80,B46<>\"\",F46<>\"\"),AND(B46=$T$81,F46=$S$82,B46<>\"\",F46<>\"\")),\"TRASFERIMENTO\",\"\")","v":""},null,null,45]
[46,null,null,{"$f":"IFERROR(VLOOKUP(B47,TARE!C:E,3,0),\"\")","v":""},{"$f":"IFERROR(VLOOKUP(B47,TARE!C:E,2,0),\"\")","v":""},null,46,null,"",null,"",null,null,"",null,null,46,null,"5° MEZZO",null,null,null,{"$f":"COUNTIFS($B$2:$B$201,T47, $N$2:$N$201,$S$37,$F$2:$F$201,S48)","v":0},null,null,null,"Inserisci nome Cliente",null,null,null,null,null,null,"Nr di Camion entrati",null,null,null,{"$f":"COUNTIFS(F2:F201,AC47,H2:H201,AC49)","v":0}]
[47,null,null,{"$f":"IFERROR(VLOOKUP(B48,TARE!C:E,3,0),\"\")","v":""},{"$f":"IFERROR(VLOOKUP(B48,TARE!C:E,2,0),\"\")","v":""},null,47,null,"",null,"",null,null,"",null,null,47]
[48,null,null,{"$f":"IFERROR(VLOOKUP(B49,TARE!C:E,3,0),\"\")","v":""},{"$f":"IFERROR(VLOOKUP(B49,TARE!C:E,2,0),\"\")","v":""},null,48,null,"",null,"",null,null,"",null,null,48,null,"6° MEZZO",null,null,null,{"$f":"COUNTIFS($B$2:$B$201,T49, $N$2:$N$201,$S$37,$F$2:$F$201,S50)","v":0},null,null,null,"Inserisci tipo Merce"]
[49,null,null,{"$f":"IFERROR(VLOOKUP(B50,TARE!C:E,3,0),\"\")","v":""},{"$f":"IFERROR(VLOOKUP(B50,TARE!C:E,2,0),\"\")","v":""},null,49,null,"",null,"",null,null,"",null,null,49]
[50,null,null,{"$f":"IFERROR(VLOOKUP(B51,TARE!C:E,3,0),\"\")","v":""},{"$f":"IFERROR(VLOOKUP(B51,TARE!C:E,2,0),\"\")","v":""},null,50,null,"",null,"",null,null,"",null,null,50,null,"7° MEZZO",null,null,null,{"$f":"COUNTIFS($B$2:$B$201,T51, $N$2:$N$201,$S$37,$F$2:$F$201,S52)","v":0}]
[51,null,null,{"$f":"IFERROR(VLOOKUP(B52,TARE!C:E,3,0),\"\")","v":""},{"$f":"IFERROR(VLOOKUP(B52,TARE!C:E,2,0),\"\")","v":""},null,51,null,"",null,"",null,null,"",null,null,51,null,null,null,null,null,null,null,null,null,{"$f":"_xlfn._xlws.SORT(_xlfn.UNIQUE(MERCI!B17:'MERCI'!B50,,1))","v":"BARRE"}]
[52,null,null,{"$f":"IFERROR(VLOOKUP(B53,TARE!C:E,3,0),\"\")","v":""},{"$f":"IFERROR(VLOOKUP(B53,TARE!C:E,2,0),\"\")","v":""},null,52,null,"",null,"",null,null,"",null,null,52,null,"8° MEZZO",null,null,null,{"$f":"COUNTIFS($B$2:$B$201,T53, $N$2:$N$201,$S$37,$F$2:$F$201,S54)","v":0},null,null,null,"BILLETTE"]
[53,null,null,{"$f":"IFERROR(VLOOKUP(B54,TARE!C:E,3,0),\"\")","v":""},{"$f":"IFERROR(VLOOKUP(B54,TARE!C:E,2,0),\"\")","v":""},null,53,null,"",null,"",null,null,"",null,null,53,null,null,null,null,null,null,null,null,null,"BLUMI"]
[54,null,null,{"$f":"IFERROR(VLOOKUP(B55,TARE!C:E,3,0),\"\")","v":""},{"$f":"IFERROR(VLOOKUP(B55,TARE!C:E,2,0),\"\")","v":""},null,54,null,"",null,"",null,null,"",null,null,54,null,"9° MEZZO",null,null,null,{"$f":"COUNTIFS($B$2:$B$201,T55, $N$2:$N$201,$S$37,$F$2:$F$201,S56)","v":0},null,null,null,"BRAMME"]
[55,null,null,{"$f":"IFERROR(VLOOKUP(B56,TARE!C:E,3,0),\"\")","v":""},{"$f":"IFERROR(VLOOKUP(B56,TARE!C:E,2,0),\"\")","v":""},null,55,null,"",null,"",null,null,"",null,null,55,null,null,null,null,null,null,null,null,null,"COILS"]
[56,null,null,{"$f":"IFERROR(VLOOKUP(B57,TARE!C:E,3,0),\"\")","v":""},{"$f":"IFERROR(VLOOKUP(B57,TARE!C:E,2,0),\"\")","v":""},null,56,null,"",null,"",null,null,"",null,null,56,null,"10° MEZZO",null,null,null,{"$f":"COUNTIFS($B$2:$B$201,T57, $N$2:$N$201,$S$37,$F$2:$F$201,S58)","v":0},null,null,null,"GHISA"]
[57,null,null,{"$f":"IFERROR(VLOOKUP(B58,TARE!C:E,3,0),\"\")","v":""},{"$f":"IFERROR(VLOOKUP(B58,TARE!C:E,2,0),\"\")","v":""},null,57,null,"",null,"",null,null,"",null,null,57,null,null,null,null,null,null,null,null,null,"LAMIERE"]
[58,null,null,{"$f":"IFERROR(VLOOKUP(B59,TARE!C:E,3,0),\"\")","v":""},{"$f":"IFERROR(VLOOKUP(B59,TARE!C:E,2,0),\"\")","v":""},null,58,null,"",null,"",null,null,"",null,null,58,null,"11° MEZZO",null,null,null,{"$f":"COUNTIFS($B$2:$B$201,T59, $N$2:$N$201,$S$37,$F$2:$F$201,S60)","v":0},null,null,null,"PALANCOLE"]
[59,null,null,{"$f":"IFERROR(VLOOKUP(B60,TARE!C:E,3,0),\"\")","v":""},{"$f":"IFERROR(VLOOKUP(B60,TARE!C:E,2,0),\"\")","v":""},null,59,null,"",null,"",null,null,"",null,null,59,null,null,null,null,null,null,null,null,null,"PROFILI ACC"]
[60,null,null,{"$f":"IFERROR(VLOOKUP(B61,TARE!C:E,3,0),\"\")","v":""},{"$f":"IFERROR(VLOOKUP(B61,TARE!C:E,2,0),\"\")","v":""},null,60,null,"",null,"",null,null,"",null,null,60,null,"12° MEZZO",null,null,null,{"$f":"COUNTIFS($B$2:$B$201,T61, $N$2:$N$201,$S$37,$F$2:$F$201,S62)","v":0},null,null,null,"SEGATI"]
[61,null,null,{"$f":"IFERROR(VLOOKUP(B62,TARE!C:E,3,0),\"\")","v":""},{"$f":"IFERROR(VLOOKUP(B62,TARE!C:E,2,0),\"\")","v":""},null,61,null,"",null,"",null,null,"",null,null,61,null,null,null,null,null,null,null,null,null,"TRONCHI"]
[62,null,null,{"$f":"IFERROR(VLOOKUP(B63,TARE!C:E,3,0),\"\")","v":""},{"$f":"IFERROR(VLOOKUP(B63,TARE!C:E,2,0),\"\")","v":""},null,62,null,"",null,"",null,null,"",null,null,62,null,"13° MEZZO",null,null,null,{"$f":"COUNTIFS($B$2:$B$201,T63, $N$2:$N$201,$S$37,$F$2:$F$201,S64)","v":0},null,null,null,"TUBI"]
[63,null,null,{"$f":"IFERROR(VLOOKUP(B64,TARE!C:E,3,0),\"\")","v":""},{"$f":"IFERROR(VLOOKUP(B64,TARE!C:E,2,0),\"\")","v":""},null,63,null,"",null,"",null,null,"",null,null,63]
[64,null,null,{"$f":"IFERROR(VLOOKUP(B65,TARE!C:E,3,0),\"\")","v":""},{"$f":"IFERROR(VLOOKUP(B65,TARE!C:E,2,0),\"\")","v":""},null,64,null,"",null,"",null,null,"",null,null,64,null,"14° MEZZO",null,null,null,{"$f":"COUNTIFS($B$2:$B$201,T65, $N$2:$N$201,$S$37,$F$2:$F$201,S66)","v":0}]
[65,null,null,{"$f":"IFERROR(VLOOKUP(B66,TARE!C:E,3,0),\"\")","v":""},{"$f":"IFERROR(VLOOKUP(B66,TARE!C:E,2,0),\"\")","v":""},null,65,null,"",null,"",null,null,"",null,null,65]
[66,null,null,{"$f":"IFERROR(VLOOKUP(B67,TARE!C:E,3,0),\"\")","v":""},{"$f":"IFERROR(VLOOKUP(B67,TARE!C:E,2,0),\"\")","v":""},null,66,null,"",null,"",null,null,{"$f":"IF(OR(AND(B67=$T$39,F67=$S$40,B67<>\"\",F67<>\"\"),AND(B67=$T$41,F67=$S$42,B67<>\"\",F67<>\"\"),AND(B67=$T$43,F67=$S$44,B67<>\"\",F67<>\"\"),AND(B67=$T$45,F67=$S$46,B67<>\"\",F67<>\"\"),AND(B67=$T$47,F67=$S$48,B67<>\"\",F67<>\"\"),AND(B67=$T$49,F67=$S$50,B67<>\"\",F67<>\"\"),AND(B67=$T$51,F67=$S$52,B67<>\"\",F67<>\"\"),AND(B67=$T$53,F67=$S$54,B67<>\"\",F67<>\"\"),AND(B67=$T$55,F67=$S$56,B67<>\"\",F67<>\"\"),AND(B67=$T$57,F67=$S$58,B67<>\"\",F67<>\"\"),AND(B67=$T$59,F67=$S$60,B67<>\"\",F67<>\"\"),AND(B67=$T$61,F67=$S$62,B67<>\"\",F67<>\"\"),AND(B67=$T$63,F67=$S$64,B67<>\"\",F67<>\"\"),AND(B67=$T$65,F67=$S$66,B67<>\"\",F67<>\"\"),AND(B67=$T$67,F67=$S$68,B67<>\"\",F67<>\"\"),AND(B67=$T$69,F67=$S$70,B67<>\"\",F67<>\"\"),AND(B67=$T$71,F67=$S$72,B67<>\"\",F67<>\"\"),AND(B67=$T$73,F67=$S$74,B67<>\"\",F67<>\"\"),AND(B67=$T$75,F67=$S$76,B67<>\"\",F67<>\"\"),AND(B67=$T$77,F67=$S$78,B67<>\"\",F67<>\"\"),AND(B67=$T$79,F67=$S$80,B67<>\"\",F67<>\"\"),AND(B67=$T$81,F67=$S$82,B67<>\"\",F67<>\"\")),\"TRASFERIMENTO\",\"\")","v":""},null,null,66,null,"15° MEZZO",null,null,null,{"$f":"COUNTIFS($B$2:$B$201,T67, $N$2:$N$201,$S$37,$F$2:$F$201,S68)","v":0}]
[67,null,null,{"$f":"IFERROR(VLOOKUP(B68,TARE!C:E,3,0),\"\")","v":""},{"$f":"IFERROR(VLOOKUP(B68,TARE!C:E,2,0),\"\")","v":""},null,67,null,{"$f":"IF(H68<>\"\", IF(I68=\"\", NOW(), I68), \"\")","v":""},null,{"$f":"IF(L68<>\"\", IF(K68=\"\", NOW(), K68), \"\")","v":""},null,null,"",null,null,67]
[68,null,null,{"$f":"IFERROR(VLOOKUP(B69,TARE!C:E,3,0),\"\")","v":""},{"$f":"IFERROR(VLOOKUP(B69,TARE!C:E,2,0),\"\")","v":""},null,68,null,"",null,"",null,null,"",null,null,68,null,"16° MEZZO",null,null,null,{"$f":"COUNTIFS($B$2:$B$201,T69, $N$2:$N$201,$S$37,$F$2:$F$201,S70)","v":0}]
[69,null,null,{"$f":"IFERROR(VLOOKUP(B70,TARE!C:E,3,0),\"\")","v":""},{"$f":"IFERROR(VLOOKUP(B70,TARE!C:E,2,0),\"\")","v":""},null,69,null,"",null,"",null,null,"",null,null,69]
[70,null,null,{"$f":"IFERROR(VLOOKUP(B71,TARE!C:E,3,0),\"\")","v":""},{"$f":"IFERROR(VLOOKUP(B71,TARE!C:E,2,0),\"\")","v":""},null,70,null,"",null,"",null,null,"",null,null,70,null,"17° MEZZO",null,null,null,{"$f":"COUNTIFS($B$2:$B$201,T71, $N$2:$N$201,$S$37,$F$2:$F$201,S72)","v":0}]
[71,null,null,{"$f":"IFERROR(VLOOKUP(B72,TARE!C:E,3,0),\"\")","v":""},{"$f":"IFERROR(VLOOKUP(B72,TARE!C:E,2,0),\"\")","v":""},null,71,null,"",null,"",null,null,"",null,null,71]
[72,null,null,{"$f":"IFERROR(VLOOKUP(B73,TARE!C:E,3,0),\"\")","v":""},{"$f":"IFERROR(VLOOKUP(B73,TARE!C:E,2,0),\"\")","v":""},null,72,null,"",null,"",null,null,"",null,null,72,null,"18° MEZZO",null,null,null,{"$f":"COUNTIFS($B$2:$B$201,T73, $N$2:$N$201,$S$37,$F$2:$F$201,S74)","v":0}]
[73,null,null,{"$f":"IFERROR(VLOOKUP(B74,TARE!C:E,3,0),\"\")","v":""},{"$f":"IFERROR(VLOOKUP(B74,TARE!C:E,2,0),\"\")","v":""},null,73,null,"",null,"",null,null,"",null,null,73]
[74,null,null,{"$f":"IFERROR(VLOOKUP(B75,TARE!C:E,3,0),\"\")","v":""},{"$f":"IFERROR(VLOOKUP(B75,TARE!C:E,2,0),\"\")","v":""},null,74,null,"",null,"",null,null,"",null,null,74,null,"19° MEZZO",null,null,null,{"$f":"COUNTIFS($B$2:$B$201,T75, $N$2:$N$201,$S$37,$F$2:$F$201,S76)","v":0}]
[75,null,null,{"$f":"IFERROR(VLOOKUP(B76,TARE!C:E,3,0),\"\")","v":""},{"$f":"IFERROR(VLOOKUP(B76,TARE!C:E,2,0),\"\")","v":""},null,75,null,"",null,"",null,null,"",null,null,75]
[76,null,null,{"$f":"IFERROR(VLOOKUP(B77,TARE!C:E,3,0),\"\")","v":""},{"$f":"IFERROR(VLOOKUP(B77,TARE!C:E,2,0),\"\")","v":""},null,76,null,"",null,"",null,null,"",null,null,76,null,"20° MEZZO",null,null,null,{"$f":"COUNTIFS($B$2:$B$201,T77, $N$2:$N$201,$S$37,$F$2:$F$201,S78)","v":0}]
[77,null,null,{"$f":"IFERROR(VLOOKUP(B78,TARE!C:E,3,0),\"\")","v":""},{"$f":"IFERROR(VLOOKUP(B78,TARE!C:E,2,0),\"\")","v":""},null,77,null,"",null,"",null,null,"",null,null,77]
[78,null,null,{"$f":"IFERROR(VLOOKUP(B79,TARE!C:E,3,0),\"\")","v":""},{"$f":"IFERROR(VLOOKUP(B79,TARE!C:E,2,0),\"\")","v":""},null,78,null,"",null,"",null,null,"",null,null,78,null,"21° MEZZO",null,null,null,{"$f":"COUNTIFS($B$2:$B$201,T79, $N$2:$N$201,$S$37,$F$2:$F$201,S80)","v":0}]
[79,null,null,{"$f":"IFERROR(VLOOKUP(B80,TARE!C:E,3,0),\"\")","v":""},{"$f":"IFERROR(VLOOKUP(B80,TARE!C:E,2,0),\"\")","v":""},null,79,null,"",null,"",null,null,"",null,null,79]
[80,null,null,{"$f":"IFERROR(VLOOKUP(B81,TARE!C:E,3,0),\"\")","v":""},{"$f":"IFERROR(VLOOKUP(B81,TARE!C:E,2,0),\"\")","v":""},null,80,null,"",null,"",null,null,"",null,null,80,null,"22° MEZZO",null,null,null,{"$f":"COUNTIFS($B$2:$B$201,T81, $N$2:$N$201,$S$37,$F$2:$F$201,S82)","v":0}]
[81,null,null,{"$f":"IFERROR(VLOOKUP(B82,TARE!C:E,3,0),\"\")","v":""},{"$f":"IFERROR(VLOOKUP(B82,TARE!C:E,2,0),\"\")","v":""},null,81,null,"",null,"",null,null,"",null,null,81]
[82,null,null,{"$f":"IFERROR(VLOOKUP(B83,TARE!C:E,3,0),\"\")","v":""},{"$f":"IFERROR(VLOOKUP(B83,TARE!C:E,2,0),\"\")","v":""},null,82,null,"",null,"",null,null,"",null,null,82]
[83,null,null,{"$f":"IFERROR(VLOOKUP(B84,TARE!C:E,3,0),\"\")","v":""},{"$f":"IFERROR(VLOOKUP(B84,TARE!C:E,2,0),\"\")","v":""},null,83,null,"",null,"",null,null,"",null,null,83]
[84,null,null,{"$f":"IFERROR(VLOOKUP(B85,TARE!C:E,3,0),\"\")","v":""},{"$f":"IFERROR(VLOOKUP(B85,TARE!C:E,2,0),\"\")","v":""},null,84,null,"",null,"",null,null,"",null,null,84]
[85,null,null,{"$f":"IFERROR(VLOOKUP(B86,TARE!C:E,3,0),\"\")","v":""},{"$f":"IFERROR(VLOOKUP(B86,TARE!C:E,2,0),\"\")","v":""},null,85,null,"",null,"",null,null,"",null,null,85]
[86,null,null,{"$f":"IFERROR(VLOOKUP(B87,TARE!C:E,3,0),\"\")","v":""},{"$f":"IFERROR(VLOOKUP(B87,TARE!C:E,2,0),\"\")","v":""},null,86,null,"",null,"",null,null,"",null,null,86]
[87,null,null,{"$f":"IFERROR(VLOOKUP(B88,TARE!C:E,3,0),\"\")","v":""},{"$f":"IFERROR(VLOOKUP(B88,TARE!C:E,2,0),\"\")","v":""},null,87,null,"",null,"",null,null,"",null,null,87]
[88,null,null,{"$f":"IFERROR(VLOOKUP(B89,TARE!C:E,3,0),\"\")","v":""},{"$f":"IFERROR(VLOOKUP(B89,TARE!C:E,2,0),\"\")","v":""},null,88,null,"",null,"",null,null,"",null,null,88]
[89,null,null,{"$f":"IFERROR(VLOOKUP(B90,TARE!C:E,3,0),\"\")","v":""},{"$f":"IFERROR(VLOOKUP(B90,TARE!C:E,2,0),\"\")","v":""},null,89,null,"",null,"",null,null,"",null,null,89]
[90,null,null,{"$f":"IFERROR(VLOOKUP(B91,TARE!C:E,3,0),\"\")","v":""},{"$f":"IFERROR(VLOOKUP(B91,TARE!C:E,2,0),\"\")","v":""},null,90,null,"",null,"",null,null,"",null,null,90]
[91,null,null,{"$f":"IFERROR(VLOOKUP(B92,TARE!C:E,3,0),\"\")","v":""},{"$f":"IFERROR(VLOOKUP(B92,TARE!C:E,2,0),\"\")","v":""},null,91,null,"",null,"",null,null,"",null,null,91]
[92,null,null,{"$f":"IFERROR(VLOOKUP(B93,TARE!C:E,3,0),\"\")","v":""},{"$f":"IFERROR(VLOOKUP(B93,TARE!C:E,2,0),\"\")","v":""},null,92,null,"",null,"",null,null,"",null,null,92]
[93,null,null,{"$f":"IFERROR(VLOOKUP(B94,TARE!C:E,3,0),\"\")","v":""},{"$f":"IFERROR(VLOOKUP(B94,TARE!C:E,2,0),\"\")","v":""},null,93,null,"",null,"",null,null,"",null,null,93]
[94,null,null,{"$f":"IFERROR(VLOOKUP(B95,TARE!C:E,3,0),\"\")","v":""},{"$f":"IFERROR(VLOOKUP(B95,TARE!C:E,2,0),\"\")","v":""},null,94,null,"",null,"",null,null,"",null,null,94]
[95,null,null,{"$f":"IFERROR(VLOOKUP(B96,TARE!C:E,3,0),\"\")","v":""},{"$f":"IFERROR(VLOOKUP(B96,TARE!C:E,2,0),\"\")","v":""},null,95,null,"",null,"",null,null,"",null,null,95]
[96,null,null,{"$f":"IFERROR(VLOOKUP(B97,TARE!C:E,3,0),\"\")","v":""},{"$f":"IFERROR(VLOOKUP(B97,TARE!C:E,2,0),\"\")","v":""},null,96,null,"",null,"",null,null,"",null,null,96]
[97,null,null,{"$f":"IFERROR(VLOOKUP(B98,TARE!C:E,3,0),\"\")","v":""},{"$f":"IFERROR(VLOOKUP(B98,TARE!C:E,2,0),\"\")","v":""},null,97,null,"",null,"",null,null,"",null,null,97]
[98,null,null,{"$f":"IFERROR(VLOOKUP(B99,TARE!C:E,3,0),\"\")","v":""},{"$f":"IFERROR(VLOOKUP(B99,TARE!C:E,2,0),\"\")","v":""},null,98,null,"",null,"",null,null,"",null,null,98]
[99,null,null,{"$f":"IFERROR(VLOOKUP(B100,TARE!C:E,3,0),\"\")","v":""},{"$f":"IFERROR(VLOOKUP(B100,TARE!C:E,2,0),\"\")","v":""},null,99,null,"",null,"",null,null,"",null,null,99]
[100,null,null,{"$f":"IFERROR(VLOOKUP(B101,TARE!C:E,3,0),\"\")","v":""},{"$f":"IFERROR(VLOOKUP(B101,TARE!C:E,2,0),\"\")","v":""},null,100,null,"",null,"",null,null,"",null,null,100]
[101,null,null,{"$f":"IFERROR(VLOOKUP(B102,TARE!C:E,3,0),\"\")","v":""},{"$f":"IFERROR(VLOOKUP(B102,TARE!C:E,2,0),\"\")","v":""},null,101,null,"",null,"",null,null,"",null,null,101]
[102,null,null,{"$f":"IFERROR(VLOOKUP(B103,TARE!C:E,3,0),\"\")","v":""},{"$f":"IFERROR(VLOOKUP(B103,TARE!C:E,2,0),\"\")","v":""},null,102,null,"",null,"",null,null,"",null,null,102]
[103,null,null,{"$f":"IFERROR(VLOOKUP(B104,TARE!C:E,3,0),\"\")","v":""},{"$f":"IFERROR(VLOOKUP(B104,TARE!C:E,2,0),\"\")","v":""},null,103,null,"",null,"",null,null,"",null,null,103]
[104,null,null,{"$f":"IFERROR(VLOOKUP(B105,TARE!C:E,3,0),\"\")","v":""},{"$f":"IFERROR(VLOOKUP(B105,TARE!C:E,2,0),\"\")","v":""},null,104,null,"",null,"",null,null,"",null,null,104]
[105,null,null,{"$f":"IFERROR(VLOOKUP(B106,TARE!C:E,3,0),\"\")","v":""},{"$f":"IFERROR(VLOOKUP(B106,TARE!C:E,2,0),\"\")","v":""},null,105,null,"",null,"",null,null,"",null,null,105]
[106,null,null,{"$f":"IFERROR(VLOOKUP(B107,TARE!C:E,3,0),\"\")","v":""},{"$f":"IFERROR(VLOOKUP(B107,TARE!C:E,2,0),\"\")","v":""},null,106,null,"",null,"",null,null,"",null,null,106]
[107,null,null,{"$f":"IFERROR(VLOOKUP(B108,TARE!C:E,3,0),\"\")","v":""},{"$f":"IFERROR(VLOOKUP(B108,TARE!C:E,2,0),\"\")","v":""},null,107,null,"",null,"",null,null,"",null,null,107]
[108,null,null,{"$f":"IFERROR(VLOOKUP(B109,TARE!C:E,3,0),\"\")","v":""},{"$f":"IFERROR(VLOOKUP(B109,TARE!C:E,2,0),\"\")","v":""},null,108,null,"",null,"",null,null,"",null,null,108]
[109,null,null,{"$f":"IFERROR(VLOOKUP(B110,TARE!C:E,3,0),\"\")","v":""},{"$f":"IFERROR(VLOOKUP(B110,TARE!C:E,2,0),\"\")","v":""},null,109,null,"",null,"",null,null,"",null,null,109]
[110,null,null,{"$f":"IFERROR(VLOOKUP(B111,TARE!C:E,3,0),\"\")","v":""},{"$f":"IFERROR(VLOOKUP(B111,TARE!C:E,2,0),\"\")","v":""},null,110,null,"",null,"",null,null,"",null,null,110]
[111,null,null,{"$f":"IFERROR(VLOOKUP(B112,TARE!C:E,3,0),\"\")","v":""},{"$f":"IFERROR(VLOOKUP(B112,TARE!C:E,2,0),\"\")","v":""},null,111,null,"",null,"",null,null,"",null,null,111]
[112,null,null,{"$f":"IFERROR(VLOOKUP(B113,TARE!C:E,3,0),\"\")","v":""},{"$f":"IFERROR(VLOOKUP(B113,TARE!C:E,2,0),\"\")","v":""},null,112,null,"",null,"",null,null,"",null,null,112]
[113,null,null,{"$f":"IFERROR(VLOOKUP(B114,TARE!C:E,3,0),\"\")","v":""},{"$f":"IFERROR(VLOOKUP(B114,TARE!C:E,2,0),\"\")","v":""},null,113,null,"",null,"",null,null,"",null,null,113]
[114,null,null,{"$f":"IFERROR(VLOOKUP(B115,TARE!C:E,3,0),\"\")","v":""},{"$f":"IFERROR(VLOOKUP(B115,TARE!C:E,2,0),\"\")","v":""},null,114,null,"",null,"",null,null,"",null,null,114]
[115,null,null,{"$f":"IFERROR(VLOOKUP(B116,TARE!C:E,3,0),\"\")","v":""},{"$f":"IFERROR(VLOOKUP(B116,TARE!C:E,2,0),\"\")","v":""},null,115,null,"",null,"",null,null,"",null,null,115]
[116,null,null,{"$f":"IFERROR(VLOOKUP(B117,TARE!C:E,3,0),\"\")","v":""},{"$f":"IFERROR(VLOOKUP(B117,TARE!C:E,2,0),\"\")","v":""},null,116,null,"",null,"",null,null,"",null,null,116]
[117,null,null,{"$f":"IFERROR(VLOOKUP(B118,TARE!C:E,3,0),\"\")","v":""},{"$f":"IFERROR(VLOOKUP(B118,TARE!C:E,2,0),\"\")","v":""},null,117,null,"",null,"",null,null,"",null,null,117]
[118,null,null,{"$f":"IFERROR(VLOOKUP(B119,TARE!C:E,3,0),\"\")","v":""},{"$f":"IFERROR(VLOOKUP(B119,TARE!C:E,2,0),\"\")","v":""},null,118,null,"",null,"",null,null,"",null,null,118]
[119,null,null,{"$f":"IFERROR(VLOOKUP(B120,TARE!C:E,3,0),\"\")","v":""},{"$f":"IFERROR(VLOOKUP(B120,TARE!C:E,2,0),\"\")","v":""},null,119,null,"",null,"",null,null,"",null,null,119]
[120,null,null,{"$f":"IFERROR(VLOOKUP(B121,TARE!C:E,3,0),\"\")","v":""},{"$f":"IFERROR(VLOOKUP(B121,TARE!C:E,2,0),\"\")","v":""},null,120,null,"",null,"",null,null,"",null,null,120]
[121,null,null,{"$f":"IFERROR(VLOOKUP(B122,TARE!C:E,3,0),\"\")","v":""},{"$f":"IFERROR(VLOOKUP(B122,TARE!C:E,2,0),\"\")","v":""},null,121,null,"",null,"",null,null,"",null,null,121]
[122,null,null,{"$f":"IFERROR(VLOOKUP(B123,TARE!C:E,3,0),\"\")","v":""},{"$f":"IFERROR(VLOOKUP(B123,TARE!C:E,2,0),\"\")","v":""},null,122,null,"",null,"",null,null,"",null,null,122]
[123,null,null,{"$f":"IFERROR(VLOOKUP(B124,TARE!C:E,3,0),\"\")","v":""},{"$f":"IFERROR(VLOOKUP(B124,TARE!C:E,2,0),\"\")","v":""},null,123,null,"",null,"",null,null,"",null,null,123]
[124,null,null,{"$f":"IFERROR(VLOOKUP(B125,TARE!C:E,3,0),\"\")","v":""},{"$f":"IFERROR(VLOOKUP(B125,TARE!C:E,2,0),\"\")","v":""},null,124,null,"",null,"",null,null,"",null,null,124]
[125,null,null,{"$f":"IFERROR(VLOOKUP(B126,TARE!C:E,3,0),\"\")","v":""},{"$f":"IFERROR(VLOOKUP(B126,TARE!C:E,2,0),\"\")","v":""},null,125,null,"",null,"",null,null,"",null,null,125]
[126,null,null,{"$f":"IFERROR(VLOOKUP(B127,TARE!C:E,3,0),\"\")","v":""},{"$f":"IFERROR(VLOOKUP(B127,TARE!C:E,2,0),\"\")","v":""},null,126,null,"",null,"",null,null,"",null,null,126]
[127,null,null,{"$f":"IFERROR(VLOOKUP(B128,TARE!C:E,3,0),\"\")","v":""},{"$f":"IFERROR(VLOOKUP(B128,TARE!C:E,2,0),\"\")","v":""},null,127,null,"",null,"",null,null,"",null,null,127]
[128,null,null,{"$f":"IFERROR(VLOOKUP(B129,TARE!C:E,3,0),\"\")","v":""},{"$f":"IFERROR(VLOOKUP(B129,TARE!C:E,2,0),\"\")","v":""},null,128,null,"",null,"",null,null,"",null,null,128]
[129,null,null,{"$f":"IFERROR(VLOOKUP(B130,TARE!C:E,3,0),\"\")","v":""},{"$f":"IFERROR(VLOOKUP(B130,TARE!C:E,2,0),\"\")","v":""},null,129,null,"",null,"",null,null,"",null,null,129]
[130,null,null,{"$f":"IFERROR(VLOOKUP(B131,TARE!C:E,3,0),\"\")","v":""},{"$f":"IFERROR(VLOOKUP(B131,TARE!C:E,2,0),\"\")","v":""},null,130,null,"",null,"",null,null,{"$f":"IF(OR(AND(B131=$T$39,F131=$S$40,B131<>\"\",F131<>\"\"),AND(B131=$T$41,F131=$S$42,B131<>\"\",F131<>\"\"),AND(B131=$T$43,F131=$S$44,B131<>\"\",F131<>\"\"),AND(B131=$T$45,F131=$S$46,B131<>\"\",F131<>\"\"),AND(B131=$T$47,F131=$S$48,B131<>\"\",F131<>\"\"),AND(B131=$T$49,F131=$S$50,B131<>\"\",F131<>\"\"),AND(B131=$T$51,F131=$S$52,B131<>\"\",F131<>\"\"),AND(B131=$T$53,F131=$S$54,B131<>\"\",F131<>\"\"),AND(B131=$T$55,F131=$S$56,B131<>\"\",F131<>\"\"),AND(B131=$T$57,F131=$S$58,B131<>\"\",F131<>\"\"),AND(B131=$T$59,F131=$S$60,B131<>\"\",F131<>\"\"),AND(B131=$T$61,F131=$S$62,B131<>\"\",F131<>\"\"),AND(B131=$T$63,F131=$S$64,B131<>\"\",F131<>\"\"),AND(B131=$T$65,F131=$S$66,B131<>\"\",F131<>\"\"),AND(B131=$T$67,F131=$S$68,B131<>\"\",F131<>\"\"),AND(B131=$T$69,F131=$S$70,B131<>\"\",F131<>\"\"),AND(B131=$T$71,F131=$S$72,B131<>\"\",F131<>\"\"),AND(B131=$T$73,F131=$S$74,B131<>\"\",F131<>\"\"),AND(B131=$T$75,F131=$S$76,B131<>\"\",F131<>\"\"),AND(B131=$T$77,F131=$S$78,B131<>\"\",F131<>\"\"),AND(B131=$T$79,F131=$S$80,B131<>\"\",F131<>\"\"),AND(B131=$T$81,F131=$S$82,B131<>\"\",F131<>\"\")),\"TRASFERIMENTO\",\"\")","v":""},null,null,130]
[131,null,null,{"$f":"IFERROR(VLOOKUP(B132,TARE!C:E,3,0),\"\")","v":""},{"$f":"IFERROR(VLOOKUP(B132,TARE!C:E,2,0),\"\")","v":""},null,131,null,{"$f":"IF(H132<>\"\", IF(I132=\"\", NOW(), I132), \"\")","v":""},null,{"$f":"IF(L132<>\"\", IF(K132=\"\", NOW(), K132), \"\")","v":""},null,null,"",null,null,131]
[132,null,null,{"$f":"IFERROR(VLOOKUP(B133,TARE!C:E,3,0),\"\")","v":""},{"$f":"IFERROR(VLOOKUP(B133,TARE!C:E,2,0),\"\")","v":""},null,132,null,"",null,"",null,null,"",null,null,132]
[133,null,null,{"$f":"IFERROR(VLOOKUP(B134,TARE!C:E,3,0),\"\")","v":""},{"$f":"IFERROR(VLOOKUP(B134,TARE!C:E,2,0),\"\")","v":""},null,133,null,"",null,"",null,null,"",null,null,133]
[134,null,null,{"$f":"IFERROR(VLOOKUP(B135,TARE!C:E,3,0),\"\")","v":""},{"$f":"IFERROR(VLOOKUP(B135,TARE!C:E,2,0),\"\")","v":""},null,134,null,"",null,"",null,null,"",null,null,134]
[135,null,null,{"$f":"IFERROR(VLOOKUP(B136,TARE!C:E,3,0),\"\")","v":""},{"$f":"IFERROR(VLOOKUP(B136,TARE!C:E,2,0),\"\")","v":""},null,135,null,"",null,"",null,null,"",null,null,135]
[136,null,null,{"$f":"IFERROR(VLOOKUP(B137,TARE!C:E,3,0),\"\")","v":""},{"$f":"IFERROR(VLOOKUP(B137,TARE!C:E,2,0),\"\")","v":""},null,136,null,"",null,"",null,null,"",null,null,136]
[137,null,null,{"$f":"IFERROR(VLOOKUP(B138,TARE!C:E,3,0),\"\")","v":""},{"$f":"IFERROR(VLOOKUP(B138,TARE!C:E,2,0),\"\")","v":""},null,137,null,"",null,"",null,null,"",null,null,137]
[138,null,null,{"$f":"IFERROR(VLOOKUP(B139,TARE!C:E,3,0),\"\")","v":""},{"$f":"IFERROR(VLOOKUP(B139,TARE!C:E,2,0),\"\")","v":""},null,138,null,"",null,"",null,null,"",null,null,138]
[139,null,null,{"$f":"IFERROR(VLOOKUP(B140,TARE!C:E,3,0),\"\")","v":""},{"$f":"IFERROR(VLOOKUP(B140,TARE!C:E,2,0),\"\")","v":""},null,139,null,"",null,"",null,null,"",null,null,139]
[140,null,null,{"$f":"IFERROR(VLOOKUP(B141,TARE!C:E,3,0),\"\")","v":""},{"$f":"IFERROR(VLOOKUP(B141,TARE!C:E,2,0),\"\")","v":""},null,140,null,"",null,"",null,null,"",null,null,140]
[141,null,null,{"$f":"IFERROR(VLOOKUP(B142,TARE!C:E,3,0),\"\")","v":""},{"$f":"IFERROR(VLOOKUP(B142,TARE!C:E,2,0),\"\")","v":""},null,141,null,"",null,"",null,null,"",null,null,141]
[142,null,null,{"$f":"IFERROR(VLOOKUP(B143,TARE!C:E,3,0),\"\")","v":""},{"$f":"IFERROR(VLOOKUP(B143,TARE!C:E,2,0),\"\")","v":""},null,142,null,"",null,"",null,null,"",null,null,142]
[143,null,null,{"$f":"IFERROR(VLOOKUP(B144,TARE!C:E,3,0),\"\")","v":""},{"$f":"IFERROR(VLOOKUP(B144,TARE!C:E,2,0),\"\")","v":""},null,143,null,"",null,"",null,null,"",null,null,143]
[144,null,null,{"$f":"IFERROR(VLOOKUP(B145,TARE!C:E,3,0),\"\")","v":""},{"$f":"IFERROR(VLOOKUP(B145,TARE!C:E,2,0),\"\")","v":""},null,144,null,"",null,"",null,null,"",null,null,144]
[145,null,null,{"$f":"IFERROR(VLOOKUP(B146,TARE!C:E,3,0),\"\")","v":""},{"$f":"IFERROR(VLOOKUP(B146,TARE!C:E,2,0),\"\")","v":""},null,145,null,"",null,"",null,null,"",null,null,145]
[146,null,null,{"$f":"IFERROR(VLOOKUP(B147,TARE!C:E,3,0),\"\")","v":""},{"$f":"IFERROR(VLOOKUP(B147,TARE!C:E,2,0),\"\")","v":""},null,146,null,"",null,"",null,null,"",null,null,146]
[147,null,null,{"$f":"IFERROR(VLOOKUP(B148,TARE!C:E,3,0),\"\")","v":""},{"$f":"IFERROR(VLOOKUP(B148,TARE!C:E,2,0),\"\")","v":""},null,147,null,"",null,"",null,null,"",null,null,147]
[148,null,null,{"$f":"IFERROR(VLOOKUP(B149,TARE!C:E,3,0),\"\")","v":""},{"$f":"IFERROR(VLOOKUP(B149,TARE!C:E,2,0),\"\")","v":""},null,148,null,"",null,"",null,null,"",null,null,148]
[149,null,null,{"$f":"IFERROR(VLOOKUP(B150,TARE!C:E,3,0),\"\")","v":""},{"$f":"IFERROR(VLOOKUP(B150,TARE!C:E,2,0),\"\")","v":""},null,149,null,"",null,"",null,null,"",null,null,149]
[150,null,null,{"$f":"IFERROR(VLOOKUP(B151,TARE!C:E,3,0),\"\")","v":""},{"$f":"IFERROR(VLOOKUP(B151,TARE!C:E,2,0),\"\")","v":""},null,150,null,"",null,"",null,null,"",null,null,150]
[151,null,null,{"$f":"IFERROR(VLOOKUP(B152,TARE!C:E,3,0),\"\")","v":""},{"$f":"IFERROR(VLOOKUP(B152,TARE!C:E,2,0),\"\")","v":""},null,151,null,"",null,"",null,null,"",null,null,151]
[152,null,null,{"$f":"IFERROR(VLOOKUP(B153,TARE!C:E,3,0),\"\")","v":""},{"$f":"IFERROR(VLOOKUP(B153,TARE!C:E,2,0),\"\")","v":""},null,152,null,"",null,"",null,null,"",null,null,152]
[153,null,null,{"$f":"IFERROR(VLOOKUP(B154,TARE!C:E,3,0),\"\")","v":""},{"$f":"IFERROR(VLOOKUP(B154,TARE!C:E,2,0),\"\")","v":""},null,153,null,"",null,"",null,null,"",null,null,153]
[154,null,null,{"$f":"IFERROR(VLOOKUP(B155,TARE!C:E,3,0),\"\")","v":""},{"$f":"IFERROR(VLOOKUP(B155,TARE!C:E,2,0),\"\")","v":""},null,154,null,"",null,"",null,null,"",null,null,154]
[155,null,null,{"$f":"IFERROR(VLOOKUP(B156,TARE!C:E,3,0),\"\")","v":""},{"$f":"IFERROR(VLOOKUP(B156,TARE!C:E,2,0),\"\")","v":""},null,155,null,"",null,"",null,null,"",null,null,155]
[156,null,null,{"$f":"IFERROR(VLOOKUP(B157,TARE!C:E,3,0),\"\")","v":""},{"$f":"IFERROR(VLOOKUP(B157,TARE!C:E,2,0),\"\")","v":""},null,156,null,"",null,"",null,null,"",null,null,156]
[157,null,null,{"$f":"IFERROR(VLOOKUP(B158,TARE!C:E,3,0),\"\")","v":""},{"$f":"IFERROR(VLOOKUP(B158,TARE!C:E,2,0),\"\")","v":""},null,157,null,"",null,"",null,null,"",null,null,157]
[158,null,null,{"$f":"IFERROR(VLOOKUP(B159,TARE!C:E,3,0),\"\")","v":""},{"$f":"IFERROR(VLOOKUP(B159,TARE!C:E,2,0),\"\")","v":""},null,158,null,"",null,"",null,null,"",null,null,158]
[159,null,null,{"$f":"IFERROR(VLOOKUP(B160,TARE!C:E,3,0),\"\")","v":""},{"$f":"IFERROR(VLOOKUP(B160,TARE!C:E,2,0),\"\")","v":""},null,159,null,"",null,"",null,null,"",null,null,159]
[160,null,null,{"$f":"IFERROR(VLOOKUP(B161,TARE!C:E,3,0),\"\")","v":""},{"$f":"IFERROR(VLOOKUP(B161,TARE!C:E,2,0),\"\")","v":""},null,160,null,"",null,"",null,null,"",null,null,160]
[161,null,null,{"$f":"IFERROR(VLOOKUP(B162,TARE!C:E,3,0),\"\")","v":""},{"$f":"IFERROR(VLOOKUP(B162,TARE!C:E,2,0),\"\")","v":""},null,161,null,"",null,"",null,null,"",null,null,161]
[162,null,null,{"$f":"IFERROR(VLOOKUP(B163,TARE!C:E,3,0),\"\")","v":""},{"$f":"IFERROR(VLOOKUP(B163,TARE!C:E,2,0),\"\")","v":""},null,162,null,"",null,"",null,null,"",null,null,162]
[163,null,null,{"$f":"IFERROR(VLOOKUP(B164,TARE!C:E,3,0),\"\")","v":""},{"$f":"IFERROR(VLOOKUP(B164,TARE!C:E,2,0),\"\")","v":""},null,163,null,"",null,"",null,null,"",null,null,163]
[164,null,null,{"$f":"IFERROR(VLOOKUP(B165,TARE!C:E,3,0),\"\")","v":""},{"$f":"IFERROR(VLOOKUP(B165,TARE!C:E,2,0),\"\")","v":""},null,164,null,"",null,"",null,null,"",null,null,164]
[165,null,null,{"$f":"IFERROR(VLOOKUP(B166,TARE!C:E,3,0),\"\")","v":""},{"$f":"IFERROR(VLOOKUP(B166,TARE!C:E,2,0),\"\")","v":""},null,165,null,"",null,"",null,null,"",null,null,165]
[166,null,null,{"$f":"IFERROR(VLOOKUP(B167,TARE!C:E,3,0),\"\")","v":""},{"$f":"IFERROR(VLOOKUP(B167,TARE!C:E,2,0),\"\")","v":""},null,166,null,"",null,"",null,null,"",null,null,166]
[167,null,null,{"$f":"IFERROR(VLOOKUP(B168,TARE!C:E,3,0),\"\")","v":""},{"$f":"IFERROR(VLOOKUP(B168,TARE!C:E,2,0),\"\")","v":""},null,167,null,"",null,"",null,null,"",null,null,167]
[168,null,null,{"$f":"IFERROR(VLOOKUP(B169,TARE!C:E,3,0),\"\")","v":""},{"$f":"IFERROR(VLOOKUP(B169,TARE!C:E,2,0),\"\")","v":""},null,168,null,"",null,"",null,null,"",null,null,168]
[169,null,null,{"$f":"IFERROR(VLOOKUP(B170,TARE!C:E,3,0),\"\")","v":""},{"$f":"IFERROR(VLOOKUP(B170,TARE!C:E,2,0),\"\")","v":""},null,169,null,"",null,"",null,null,"",null,null,169]
[170,null,null,{"$f":"IFERROR(VLOOKUP(B171,TARE!C:E,3,0),\"\")","v":""},{"$f":"IFERROR(VLOOKUP(B171,TARE!C:E,2,0),\"\")","v":""},null,170,null,"",null,"",null,null,"",null,null,170]
[171,null,null,{"$f":"IFERROR(VLOOKUP(B172,TARE!C:E,3,0),\"\")","v":""},{"$f":"IFERROR(VLOOKUP(B172,TARE!C:E,2,0),\"\")","v":""},null,171,null,"",null,"",null,null,"",null,null,171]
[172,null,null,{"$f":"IFERROR(VLOOKUP(B173,TARE!C:E,3,0),\"\")","v":""},{"$f":"IFERROR(VLOOKUP(B173,TARE!C:E,2,0),\"\")","v":""},null,172,null,"",null,"",null,null,"",null,null,172]
[173,null,null,{"$f":"IFERROR(VLOOKUP(B174,TARE!C:E,3,0),\"\")","v":""},{"$f":"IFERROR(VLOOKUP(B174,TARE!C:E,2,0),\"\")","v":""},null,173,null,"",null,"",null,null,"",null,null,173]
[174,null,null,{"$f":"IFERROR(VLOOKUP(B175,TARE!C:E,3,0),\"\")","v":""},{"$f":"IFERROR(VLOOKUP(B175,TARE!C:E,2,0),\"\")","v":""},null,174,null,"",null,"",null,null,"",null,null,174]
[175,null,null,{"$f":"IFERROR(VLOOKUP(B176,TARE!C:E,3,0),\"\")","v":""},{"$f":"IFERROR(VLOOKUP(B176,TARE!C:E,2,0),\"\")","v":""},null,175,null,"",null,"",null,null,"",null,null,175]
[176,null,null,{"$f":"IFERROR(VLOOKUP(B177,TARE!C:E,3,0),\"\")","v":""},{"$f":"IFERROR(VLOOKUP(B177,TARE!C:E,2,0),\"\")","v":""},null,176,null,"",null,"",null,null,"",null,null,176]
[177,null,null,{"$f":"IFERROR(VLOOKUP(B178,TARE!C:E,3,0),\"\")","v":""},{"$f":"IFERROR(VLOOKUP(B178,TARE!C:E,2,0),\"\")","v":""},null,177,null,"",null,"",null,null,"",null,null,177]
[178,null,null,{"$f":"IFERROR(VLOOKUP(B179,TARE!C:E,3,0),\"\")","v":""},{"$f":"IFERROR(VLOOKUP(B179,TARE!C:E,2,0),\"\")","v":""},null,178,null,"",null,"",null,null,"",null,null,178]
[179,null,null,{"$f":"IFERROR(VLOOKUP(B180,TARE!C:E,3,0),\"\")","v":""},{"$f":"IFERROR(VLOOKUP(B180,TARE!C:E,2,0),\"\")","v":""},null,179,null,"",null,"",null,null,"",null,null,179]
[180,null,null,{"$f":"IFERROR(VLOOKUP(B181,TARE!C:E,3,0),\"\")","v":""},{"$f":"IFERROR(VLOOKUP(B181,TARE!C:E,2,0),\"\")","v":""},null,180,null,"",null,"",null,null,"",null,null,180]
[181,null,null,{"$f":"IFERROR(VLOOKUP(B182,TARE!C:E,3,0),\"\")","v":""},{"$f":"IFERROR(VLOOKUP(B182,TARE!C:E,2,0),\"\")","v":""},null,181,null,"",null,"",null,null,"",null,null,181]
[182,null,null,{"$f":"IFERROR(VLOOKUP(B183,TARE!C:E,3,0),\"\")","v":""},{"$f":"IFERROR(VLOOKUP(B183,TARE!C:E,2,0),\"\")","v":""},null,182,null,"",null,"",null,null,"",null,null,182]
[183,null,null,{"$f":"IFERROR(VLOOKUP(B184,TARE!C:E,3,0),\"\")","v":""},{"$f":"IFERROR(VLOOKUP(B184,TARE!C:E,2,0),\"\")","v":""},null,183,null,"",null,"",null,null,"",null,null,183]
[184,null,null,{"$f":"IFERROR(VLOOKUP(B185,TARE!C:E,3,0),\"\")","v":""},{"$f":"IFERROR(VLOOKUP(B185,TARE!C:E,2,0),\"\")","v":""},null,184,null,"",null,"",null,null,"",null,null,184]
[185,null,null,{"$f":"IFERROR(VLOOKUP(B186,TARE!C:E,3,0),\"\")","v":""},{"$f":"IFERROR(VLOOKUP(B186,TARE!C:E,2,0),\"\")","v":""},null,185,null,"",null,"",null,null,"",null,null,185]
[186,null,null,{"$f":"IFERROR(VLOOKUP(B187,TARE!C:E,3,0),\"\")","v":""},{"$f":"IFERROR(VLOOKUP(B187,TARE!C:E,2,0),\"\")","v":""},null,186,null,"",null,"",null,null,"",null,null,186]
[187,null,null,{"$f":"IFERROR(VLOOKUP(B188,TARE!C:E,3,0),\"\")","v":""},{"$f":"IFERROR(VLOOKUP(B188,TARE!C:E,2,0),\"\")","v":""},null,187,null,"",null,"",null,null,"",null,null,187]
[188,null,null,{"$f":"IFERROR(VLOOKUP(B189,TARE!C:E,3,0),\"\")","v":""},{"$f":"IFERROR(VLOOKUP(B189,TARE!C:E,2,0),\"\")","v":""},null,188,null,"",null,"",null,null,"",null,null,188]
[189,null,null,{"$f":"IFERROR(VLOOKUP(B190,TARE!C:E,3,0),\"\")","v":""},{"$f":"IFERROR(VLOOKUP(B190,TARE!C:E,2,0),\"\")","v":""},null,189,null,"",null,"",null,null,"",null,null,189]
[190,null,null,{"$f":"IFERROR(VLOOKUP(B191,TARE!C:E,3,0),\"\")","v":""},{"$f":"IFERROR(VLOOKUP(B191,TARE!C:E,2,0),\"\")","v":""},null,190,null,"",null,"",null,null,"",null,null,190]
[191,null,null,{"$f":"IFERROR(VLOOKUP(B192,TARE!C:E,3,0),\"\")","v":""},{"$f":"IFERROR(VLOOKUP(B192,TARE!C:E,2,0),\"\")","v":""},null,191,null,"",null,"",null,null,"",null,null,191]
[192,null,null,{"$f":"IFERROR(VLOOKUP(B193,TARE!C:E,3,0),\"\")","v":""},{"$f":"IFERROR(VLOOKUP(B193,TARE!C:E,2,0),\"\")","v":""},null,192,null,"",null,"",null,null,"",null,null,192]
[193,null,null,{"$f":"IFERROR(VLOOKUP(B194,TARE!C:E,3,0),\"\")","v":""},{"$f":"IFERROR(VLOOKUP(B194,TARE!C:E,2,0),\"\")","v":""},null,193,null,"",null,"",null,null,"",null,null,193]
[194,null,null,{"$f":"IFERROR(VLOOKUP(B195,TARE!C:E,3,0),\"\")","v":""},{"$f":"IFERROR(VLOOKUP(B195,TARE!C:E,2,0),\"\")","v":""},null,194,null,"",null,"",null,null,{"$f":"IF(OR(AND(B195=$T$39,F195=$S$40,B195<>\"\",F195<>\"\"),AND(B195=$T$41,F195=$S$42,B195<>\"\",F195<>\"\"),AND(B195=$T$43,F195=$S$44,B195<>\"\",F195<>\"\"),AND(B195=$T$45,F195=$S$46,B195<>\"\",F195<>\"\"),AND(B195=$T$47,F195=$S$48,B195<>\"\",F195<>\"\"),AND(B195=$T$49,F195=$S$50,B195<>\"\",F195<>\"\"),AND(B195=$T$51,F195=$S$52,B195<>\"\",F195<>\"\"),AND(B195=$T$53,F195=$S$54,B195<>\"\",F195<>\"\"),AND(B195=$T$55,F195=$S$56,B195<>\"\",F195<>\"\"),AND(B195=$T$57,F195=$S$58,B195<>\"\",F195<>\"\"),AND(B195=$T$59,F195=$S$60,B195<>\"\",F195<>\"\"),AND(B195=$T$61,F195=$S$62,B195<>\"\",F195<>\"\"),AND(B195=$T$63,F195=$S$64,B195<>\"\",F195<>\"\"),AND(B195=$T$65,F195=$S$66,B195<>\"\",F195<>\"\"),AND(B195=$T$67,F195=$S$68,B195<>\"\",F195<>\"\"),AND(B195=$T$69,F195=$S$70,B195<>\"\",F195<>\"\"),AND(B195=$T$71,F195=$S$72,B195<>\"\",F195<>\"\"),AND(B195=$T$73,F195=$S$74,B195<>\"\",F195<>\"\"),AND(B195=$T$75,F195=$S$76,B195<>\"\",F195<>\"\"),AND(B195=$T$77,F195=$S$78,B195<>\"\",F195<>\"\"),AND(B195=$T$79,F195=$S$80,B195<>\"\",F195<>\"\"),AND(B195=$T$81,F195=$S$82,B195<>\"\",F195<>\"\")),\"TRASFERIMENTO\",\"\")","v":""},null,null,194]
[195,null,null,{"$f":"IFERROR(VLOOKUP(B196,TARE!C:E,3,0),\"\")","v":""},{"$f":"IFERROR(VLOOKUP(B196,TARE!C:E,2,0),\"\")","v":""},null,195,null,{"$f":"IF(H196<>\"\", IF(I196=\"\", NOW(), I196), \"\")","v":""},null,{"$f":"IF(L196<>\"\", IF(K196=\"\", NOW(), K196), \"\")","v":""},null,null,"",null,null,195]
[196,null,null,{"$f":"IFERROR(VLOOKUP(B197,TARE!C:E,3,0),\"\")","v":""},{"$f":"IFERROR(VLOOKUP(B197,TARE!C:E,2,0),\"\")","v":""},null,196,null,"",null,"",null,null,"",null,null,196]
[197,null,null,{"$f":"IFERROR(VLOOKUP(B198,TARE!C:E,3,0),\"\")","v":""},{"$f":"IFERROR(VLOOKUP(B198,TARE!C:E,2,0),\"\")","v":""},null,197,null,"",null,"",null,null,"",null,null,197]
[198,null,null,{"$f":"IFERROR(VLOOKUP(B199,TARE!C:E,3,0),\"\")","v":""},{"$f":"IFERROR(VLOOKUP(B199,TARE!C:E,2,0),\"\")","v":""},null,198,null,"",null,"",null,null,"",null,null,198]
[199,null,null,{"$f":"IFERROR(VLOOKUP(B200,TARE!C:E,3,0),\"\")","v":""},{"$f":"IFERROR(VLOOKUP(B200,TARE!C:E,2,0),\"\")","v":""},null,199,null,"",null,"",null,null,"",null,null,199]
[200,null,null,{"$f":"IFERROR(VLOOKUP(B201,TARE!C:E,3,0),\"\")","v":""},{"$f":"IFERROR(VLOOKUP(B201,TARE!C:E,2,0),\"\")","v":""},null,200,null,"",null,"",null,null,"",null,null,200]

{"sheet":"Zona di Carico","index":1,"n_rows":25,"n_cols":7,"rows_kept":25,"cut":false,"hidden":false,"merged":[[1,1,1,6],[2,5,2,7]]}
[]
[null,"ELENCO ZONE DI CARICO"]
[null,null,null,null,null,"CAMION PER ZONA"]
[null,1,null,2,null,null,{"$f":"COUNTIFS(ENTRATE!P2:'ENTRATE'!P161,\"2\", ENTRATE!I2:'ENTRATE'!I161,\">0\", ENTRATE!K2:'ENTRATE'!K161,\"\")","v":0}]
[null,2,null,"STR.3",null,null,{"$f":"COUNTIFS(ENTRATE!P2:'ENTRATE'!P161,\"STR.3\", ENTRATE!I2:'ENTRATE'!I161,\">0\", ENTRATE!K2:'ENTRATE'!K161,\"\")","v":0}]
[null,3,null,"3/PICKING",null,null,{"$f":"COUNTIFS(ENTRATE!P2:'ENTRATE'!P161,\"3/PICKING\", ENTRATE!I2:'ENTRATE'!I161,\">0\", ENTRATE!K2:'ENTRATE'!K161,\"\")","v":0}]
[null,4,null,4,null,null,{"$f":"COUNTIFS(ENTRATE!P2:'ENTRATE'!P161,\"4\", ENTRATE!I2:'ENTRATE'!I161,\">0\", ENTRATE!K2:'ENTRATE'!K161,\"\")","v":0}]
[null,5,null,5,null,null,{"$f":"COUNTIF(ENTRATE!P2:'ENTRATE'!P161,\"5\")","v":0}]
[null,6,null,6,null,null,{"$f":"COUNTIFS(ENTRATE!P2:'ENTRATE'!P161,\"6\", ENTRATE!I2:'ENTRATE'!I161,\">0\", ENTRATE!K2:'ENTRATE'!K161,\"\")","v":0}]
[null,7,null,8,null,null,{"$f":"COUNTIFS(ENTRATE!P2:'ENTRATE'!P161,\"8\", ENTRATE!I2:'ENTRATE'!I161,\">0\", ENTRATE!K2:'ENTRATE'!K161,\"\")","v":0}]
[null,8,null,"8/CAP1",null,null,{"$f":"COUNTIFS(ENTRATE!P2:'ENTRATE'!P161,\"8/CAP1\", ENTRATE!I2:'ENTRATE'!I161,\">0\", ENTRATE!K2:'ENTRATE'!K161,\"\")","v":0}]
[null,9,null,18,null,null,{"$f":"COUNTIFS(ENTRATE!P2:'ENTRATE'!P161,\"18\", ENTRATE!I2:'ENTRATE'!I161,\">0\", ENTRATE!K2:'ENTRATE'!K161,\"\")","v":0}]
[null,10,null,16,null,null,{"$f":"COUNTIFS(ENTRATE!P2:'ENTRATE'!P161,\"16\", ENTRATE!I2:'ENTRATE'!I161,\">0\", ENTRATE!K2:'ENTRATE'!K161,\"\")","v":0}]
[null,11,null,"16/SILOS",null,null,{"$f":"COUNTIFS(ENTRATE!P2:'ENTRATE'!P161,\"16/SILOS\", ENTRATE!I2:'ENTRATE'!I161,\">0\", ENTRATE!K2:'ENTRATE'!K161,\"\")","v":0}]
[null,12,null,10,null,null,{"$f":"COUNTIFS(ENTRATE!P2:'ENTRATE'!P161,\"10\", ENTRATE!I2:'ENTRATE'!I161,\">0\", ENTRATE!K2:'ENTRATE'!K161,\"\")","v":0}]
[null,13,null,12,null,null,{"$f":"COUNTIFS(ENTRATE!P2:'ENTRATE'!P161,\"12\", ENTRATE!I2:'ENTRATE'!I161,\">0\", ENTRATE!K2:'ENTRATE'!K161,\"\")","v":0}]
[null,14,null,"EX.MERZ.",null,null,{"$f":"COUNTIFS(ENTRATE!P2:'ENTRATE'!P161,\"EX.MERZ.\", ENTRATE!I2:'ENTRATE'!I161,\">0\", ENTRATE!K2:'ENTRATE'!K161,\"\")","v":0}]
[null,15,null,"S.MARCO",null,null,{"$f":"COUNTIFS(ENTRATE!P2:'ENTRATE'!P161,\"S.MARCO\", ENTRATE!I2:'ENTRATE'!I161,\">0\", ENTRATE!K2:'ENTRATE'!K161,\"\")","v":0}]
[null,16,null,"3B",null,null,{"$f":"COUNTIFS(ENTRATE!P2:'ENTRATE'!P161,\"3B\", ENTRATE!I2:'ENTRATE'!I161,\">0\", ENTRATE!K2:'ENTRATE'!K161,\"\")","v":0}]
[null,17,null,"RA MILL",null,null,{"$f":"COUNTIFS(ENTRATE!P2:'ENTRATE'!P161,\"RA MILL\", ENTRATE!I2:'ENTRATE'!I161,\">0\", ENTRATE!K2:'ENTRATE'!K161,\"\")","v":0}]
[null,18,null,"MICRON MIN",null,null,{"$f":"COUNTIFS(ENTRATE!P2:'ENTRATE'!P161,\"MICRON MIN\", ENTRATE!I2:'ENTRATE'!I161,\">0\", ENTRATE!K2:'ENTRATE'!K161,\"\")","v":0}]
[null,19,null,"COLACEM",null,null,{"$f":"COUNTIFS(ENTRATE!P3:'ENTRATE'!P162,\"COLACEM\", ENTRATE!I3:'ENTRATE'!I162,\">0\", ENTRATE!K3:'ENTRATE'!K162,\"\")","v":0}]
[null,20,null,"SOCO VECCHIA",null,null,{"$f":"COUNTIFS(ENTRATE!P3:'ENTRATE'!P201,\"SOCO VECCHIA\", ENTRATE!I3:'ENTRATE'!I201,\">0\", ENTRATE!K3:'ENTRATE'!K201,\"\")","v":0}]
[null,21,null,"CONSORZIO",null,null,{"$f":"COUNTIFS(ENTRATE!P4:'ENTRATE'!P202,\"CONSORZIO\", ENTRATE!I4:'ENTRATE'!I202,\">0\", ENTRATE!K4:'ENTRATE'!K202,\"\")","v":0}]
[null,22,null,null,null,null,{"$f":"COUNTIFS(ENTRATE!P5:'ENTRATE'!P203,\"SOCO VECCHIA\", ENTRATE!I5:'ENTRATE'!I203,\">0\", ENTRATE!K5:'ENTRATE'!K203,\"\")","v":0}]

{"sheet":"STATS S.","index":2,"n_rows":45,"n_cols":8,"rows_kept":45,"cut":false,"hidden":false,"merged":[[0,0,1,18],[4,0,4,2],[6,0,6,2],[8,0,8,2],[10,0,10,2],[4,4,4,5],[4,7,4,9],[5,0,5,2],[7,0,7,2],[9,0,9,2],[15,0,15,2],[17,0,17,2],[19,0,19,2],[12,0,12,2],[35,0,35,2],[21,0,21,2],[14,0,14,2],[16,0,16,2],[18,0,18,2],[20,0,20,2],[29,0,29,18],[48,0,48,2],[11,0,11,2],[13,0,13,2],[42,0,42,2],[43,0,43,2],[44,0,44,2],[22,0,22,2],[24,0,24,2],[26,0,26,2],[41,0,41,2],[36,0,36,2],[37,0,37,2],[38,0,38,2],[39,0,39,2],[40,0,40,2],[34,0,34,2]]}
["STATISTICHE GIORNALIERE SPUNATATORI"]
[]
[]
[]
["NOMI SPUNTATORI PRESENTI",null,null,null,"ABBREVIAZIONE",null,null,"NR CARICHI EFFETTUATI"]
[]
[{"$f":"A35","v":"CLAUDIO"},null,null,null,{"$f":"E35","v":"CLA"},null,null,{"$f":"COUNTIFS(ENTRATE!L2:M201,'STATS S.'!E35)","v":0}]
[]
[{"$f":"A36","v":"GIUSEPPE Q"},null,null,null,{"$f":"E36","v":"GQ"},null,null,{"$f":"COUNTIFS(ENTRATE!L2:M201,'STATS S.'!E36)","v":0}]
[]
[{"$f":"A37","v":"LELLO"},null,null,null,{"$f":"E37","v":"LEL"},null,null,{"$f":"COUNTIFS(ENTRATE!L2:M201,'STATS S.'!E37)","v":0}]
[]
[{"$f":"A38","v":"NIKODEM"},null,null,null,{"$f":"E38","v":"NIKO"},null,null,{"$f":"COUNTIFS(ENTRATE!L2:M201,'STATS S.'!E38)","v":0}]
[]
["GIUSEPPE",null,null,null,"GM",null,null,{"$f":"COUNTIFS(ENTRATE!L2:M201,'STATS S.'!E39)","v":0}]
[]
[{"$f":"A40","v":"BELLINI"},null,null,null,{"$f":"E40","v":"BEL"},null,null,{"$f":"COUNTIFS(ENTRATE!L2:M201,'STATS S.'!E40)","v":0}]
[]
[{"$f":"A41","v":"MARCO L"},null,null,null,{"$f":"E41","v":"ML"},null,null,{"$f":"COUNTIFS(ENTRATE!L2:M201,'STATS S.'!E41)","v":0}]
[]
[{"$f":"A42","v":"ALESSANDRO"},null,null,null,{"$f":"E42","v":"AM"},null,null,{"$f":"COUNTIFS(ENTRATE!L2:M201,'STATS S.'!E42)","v":0}]
[]
[{"$f":"A43","v":"CIRILLO"},null,null,null,{"$f":"E43","v":"CIR"},null,null,{"$f":"COUNTIFS(ENTRATE!L2:M201,'STATS S.'!E43)","v":0}]
[]
[{"$f":"A44","v":"NON ASS"},null,null,null,{"$f":"E44","v":"NO"},null,null,{"$f":"COUNTIFS(ENTRATE!L2:M201,'STATS S.'!E44)","v":0}]
[]
[{"$f":"A45","v":"NON ASS"},null,null,null,{"$f":"E45","v":"NO"},null,null,{"$f":"COUNTIFS(ENTRATE!L2:M201,'STATS S.'!E45)","v":0}]
[]
[]
["Ideato e Creato da Marco Rosini"]
[]
[]
[]
[]
["CLAUDIO",null,null,null,"CLA"]
["GIUSEPPE Q",null,null,null,"GQ"]
["LELLO",null,null,null,"LEL"]
["NIKODEM",null,null,null,"NIKO"]
["GIUSEPPE",null,null,null,"GM"]
["BELLINI",null,null,null,"BEL"]
["MARCO L",null,null,null,"ML"]
["ALESSANDRO",null,null,null,"AM"]
["CIRILLO",null,null,null,"CIR"]
["NON ASS",null,null,null,"NO"]
["NON ASS",null,null,null,"NO"]

{"sheet":"TARE","index":3,"n_rows":504,"n_cols":6,"rows_kept":504,"cut":false,"hidden":false,"merged":[[1,1,1,5]]}
[]
[null,"ELENCO TARGHE E TARE MEZZI ECCEZIONALI"]
[]
[]
[null,null,"TARGA","TARA"]
[]
[null,1,"CE579WV",22900,"E","PIGOZZI"]
[null,2,"EY507LD",22025,"E","PIGOZZI"]
[null,3,"FD915KB",22325,"E","PIGOZZI"]
[null,4,"DW320AJ",21950,"E","PIGOZZI"]
[null,5,"DR441EL",23625,"E","PIGOZZI"]
[null,6,"BR109HE",24000,"E","TCF"]
[null,7,"BR110HE",24000,"E","TCF"]
[null,8,"BT579MK",24000,"E","TCF"]
[null,9,"EP105JJ",24000,"E","TCF"]
[null,10,"BW807KG",24000,"E","TCF"]
[null,11,"CA685SY",31000,"E","TCF"]
[null,12,"CA686SY",31000,"E","TCF"]
[null,13,"CH596EZ",31000,"E","TCF"]
[null,14,"CK619KR",31000,"E","TCF"]
[null,15,"CK947KR",31000,"E","TCF"]
[null,16,"CN265WS",31000,"E","TCF"]
[null,17,"CN283XD",31000,"E","TCF"]
[null,18,"CR365DC",31000,"E","TCF"]
[null,19,"CR366DC",31000,"E","TCF"]
[null,20,"DE146CP",29500,"E","TCF"]
[null,21,"DE147CP",30000,"E","TCF"]
[null,22,"DE539CP",30000,"E","TCF"]
[null,23,"DE540CP",30000,"E","TCF"]
[null,24,"DH220KC",30000,"E","TCF"]
[null,25,"DL558CH",30800,"E","TCF"]
[null,26,"DM320MJ",30000,"E","TCF"]
[null,27,"DN052YV",30000,"E","TCF"]
[null,28,"DN 155YV",30800,"E","TCF"]
[null,29,"DP203YD",30800,"E","TCF"]
[null,30,"DV133HT",30800,"E","TCF"]
[null,31,"EC584AR",30000,"E","TCF"]
[null,32,"EC585AR",30000,"E","TCF"]
[null,33,"CX266FL",29000,"E","TCF"]
[null,34,"DA433NC",29500,"E","TCF"]
[null,35,"DA625NC",29500,"E","TCF"]
[null,36,"DH209KC",29500,"E","TCF"]
[null,37,"DL501CH",29500,"E","TCF"]
[null,38,"DN342YV",29000,"E","TCF"]
[null,39,"EC556AR",29000,"E","TCF"]
[null,40,"EH881KS",26300,"E","TCF"]
[null,41,"EH882KS",26300,"E","TCF"]
[null,42,"EK126CD",26300,"E","TCF"]
[null,43,"EK127CD",26300,"E","TCF"]
[null,44,"EK128CD",26300,"E","TCF"]
[null,45,"EM191KR",26300,"E","TCF"]
[null,46,"EM192KR",26300,"E","TCF"]
[null,47,"EM193KR",26300,"E","TCF"]
[null,48,"EM194KR",26300,"E","TCF"]
[null,49,"FG011WR",25300,"E","TCF"]
[null,50,"FG012WR",25300,"E","TCF"]
[null,51,"FG013WR",25300,"E","TCF"]
[null,52,"FG014WR",25300,"E","TCF"]
[null,53,"FG015WR",25300,"E","TCF"]
[null,54,"FG016WR",25300,"E","TCF"]
[null,55,"FG017WR",25300,"E","TCF"]
[null,56,"FG018WR",25300,"E","TCF"]
[null,57,"FG019WR",25300,"E","TCF"]
[null,58,"FG020WR",25300,"E","TCF"]
[null,59,null,null,"E","TCF"]
[null,60,"FF984ZS",22425,"E","STORTI"]
[null,61,"FF983ZS",22425,"E","STORTI"]
[null,62,"FF944ZS",23080,"E","STORTI"]
[null,63,"FF943ZS",23080,"E","STORTI"]
[null,64,"FF943ZP",24380,"E","STORTI"]
[null,65,"FF942ZP",24380,"E","STORTI"]
[null,66,"FF941ZP",24380,"E","STORTI"]
[null,67,"FF940ZP",23780,"E","STORTI"]
[null,68,"FF939ZP",24380,"E","STORTI"]
[null,69,"FE173PB",24380,"E","STORTI"]
[null,70,"FE172PB",23780,"E","STORTI"]
[null,71,"FE077PB",23780,"E","STORTI"]
[null,72,"FE076PB",24380,"E","STORTI"]
[null,73,"FE075PB",24380,"E","STORTI"]
[null,74,"FE022PB",24380,"E","STORTI"]
[null,75,"FC198SR",22425,"E","STORTI"]
[null,76,"FC197SR",22425,"E","STORTI"]
[null,77,"FA999XG",22425,"E","STORTI"]
[null,78,"FA788XG",22425,"E","STORTI"]
[null,79,"FA769XG",22425,"E","STORTI"]
[null,80,"FA768XG",22425,"E","STORTI"]
[null,81,"FA748XG",22425,"E","STORTI"]
[null,82,"FA747XG",22425,"E","STORTI"]
[null,83,"FA746XG",22425,"E","STORTI"]
[null,84,"EZ379KV",22425,"E","STORTI"]
[null,85,"EZ350KV",22425,"E","STORTI"]
[null,86,"EZ306KV",22425,"E","STORTI"]
[null,87,"EZ296KV",24800,"E","STORTI"]
[null,88,"EZ226KV",22425,"E","STORTI"]
[null,89,"EZ225KV",22425,"E","STORTI"]
[null,90,"EZ224KV",22425,"E","STORTI"]
[null,91,"EZ206KV",22425,"E","STORTI"]
[null,92,"EZ158KV",22425,"E","STORTI"]
[null,93,"EZ098KV",22425,"E","STORTI"]
[null,94,"EZ097KV",22425,"E","STORTI"]
[null,95,"EZ027KV",22425,"E","STORTI"]
[null,96,"EZ026KV",22425,"E","STORTI"]
[null,97,"EX988XR",22425,"E","STORTI"]
[null,98,"EX987XR",22425,"E","STORTI"]
[null,99,"EX691XR",22425,"E","STORTI"]
[null,100,"EX690XR",22425,"E","STORTI"]
[null,101,"EW670XD",22425,"E","STORTI"]
[null,102,"ES207HD",24625,"E","STORTI"]
[null,103,"ES206HD",24625,"E","STORTI"]
[null,104,"ES205HD",24625,"E","STORTI"]
[null,105,"ES204HD",24625,"E","STORTI"]
[null,106,"ES203HD",24200,"E","STORTI"]
[null,107,"ES183HD",24200,"E","STORTI"]
[null,108,"ES182HD",24900,"E","STORTI"]
[null,109,"ES177HD",24625,"E","STORTI"]
[null,110,"ES176HD",24625,"E","STORTI"]
[null,111,"ES152HD",26125,"E","STORTI"]
[null,112,"ES151HD",24625,"E","STORTI"]
[null,113,"ES148HD",23600,"E","STORTI"]
[null,114,"FK601HJ",24200,"E","STORTI"]
[null,115,"ES099HD",24625,"E","STORTI"]
[null,116,"ES083HD",23600,"E","STORTI"]
[null,117,"ES082HD",23600,"E","STORTI"]
[null,118,"ES081HD",24900,"E","STORTI"]
[null,119,"ES080HD",24900,"E","STORTI"]
[null,120,"ES033HD",24625,"E","STORTI"]
[null,121,"ER896ZF",21925,"E","STORTI"]
[null,122,"EP455HB",23600,"E","STORTI"]
[null,123,"EP454HB",23600,"E","STORTI"]
[null,124,"EP453HB",24900,"E","STORTI"]
[null,125,"EL872VP",26125,"E","STORTI"]
[null,126,"EL693VP",23600,"E","STORTI"]
[null,127,"EF283EH",21425,"E","STORTI"]
[null,128,"EF282EH",21425,"E","STORTI"]
[null,129,"EF281EH",21425,"E","STORTI"]
[null,130,"EF280EH",21425,"E","STORTI"]
[null,131,"EB633FG",21425,"E","STORTI"]
[null,132,"EB628FG",21425,"E","STORTI"]
[null,133,"EB627FG",21425,"E","STORTI"]
[null,134,"EB626FG",21425,"E","STORTI"]
[null,135,"EB536FG",22155,"E","STORTI"]
[null,136,"EB535FG",21425,"E","STORTI"]
[null,137,"DS743EJ",23525,"E","STORTI"]
[null,138,"DS742EJ",23600,"E","STORTI"]
[null,139,"DC210WA",24040,"E","STORTI"]
[null,140,"CZ048RR",22860,"E","STORTI"]
[null,141,"CZ047RR",23160,"E","STORTI"]
[null,142,"CW426MZ",23925,"E","STORTI"]
[null,143,"CR615TW",24560,"E","STORTI"]
[null,144,"CR505TW",24560,"E","STORTI"]
[null,145,"CR395TW",23260,"E","STORTI"]
[null,146,"CR386TW",23460,"E","STORTI"]
[null,147,"CE019NJ",22840,"E","STORTI"]
[null,148,"CE018NJ",22840,"E","STORTI"]
[null,149,"EX103RP",24900,"E","FTN"]
[null,150,"CL984GR",24400,"E","FTN"]
[null,151,"BY682AM",25400,"E","FTN"]
[null,152,"FG812CJ",31300,"E","FTN"]
[null,153,"FH618HG",26300,"E","FTN"]
[null,154,"DV212HT",29000,"E","FTN"]
[null,155,"FA000SP",25000,"E","FTN"]
[null,156,"FG252WR",29200,"E","FTN"]
[null,157,"ET192PJ",28700,"E","FTN"]
[null,158,"DN022YV",25500,"E","FTN"]
[null,159,"CT370MT",31000,"E","FTN"]
[null,160,"BK865XE",30800,"E","FTN"]
[null,161,"CL241PF",25000,"E","FTN"]
[null,162,"ED206KA",25200,"E","FTN"]
[null,163,"DJ376EL",24500,"E","FTN"]
[null,164,"EX904KH",27200,"E","FTN"]
[null,165,"CN894WS",30400,"E","FTN"]
[null,166,"EA664MR",25000,"E","FTN"]
[null,167,"DS369PV",25200,"E","FTN"]
[null,168,"CY524XC",24200,"E","FTN"]
[null,169,"EL837HE",26200,"E","FTN"]
[null,170,"EL838HE",26500,"E","FTN"]
[null,171,"DN274MS",28200,"E","FTN"]
[null,172,"BW271KH",25000,"E","FTN"]
[null,173,"FG084WR",28200,"E","FTN"]
[null,174,null,null,"E"]
[null,175,"DM897DA",24100,"E","FANINI"]
[null,176,"DG604KC",24200,"E","FANINI"]
[null,177,"BN913PG",22700,"E","FANINI"]
[null,178,"CG975GD",22300,"E","FANINI"]
[null,179,"FA705YE",24400,"E","FANINI"]
[null,180,"FE991TJ  ",25000,"E","NICOLI"]
[null,181,"FE992TJ  ",25100,"E","NICOLI"]
[null,182,"FF486XL  ",25000,"E","NICOLI"]
[null,183,"ZB534AB  ",24700,"E","NICOLI"]
[null,184,"EH082BH",24500,"E","NICOLI"]
[null,185,"DV202HT",29000,"E","SARMI"]
[null,186,null,null,"E"]
[null,187,null,null,"E"]
[null,188,null,null,"E"]
[null,189,null,null,"E"]
[null,190,null,null,"E"]
[null,191,null,null,"E"]
[null,192,null,null,"E"]
[null,193,null,null,"E"]
[null,194,null,null,"E"]
[null,195,null,null,"E"]
[null,196,null,null,"E"]
[null,197,null,null,"E"]
[null,198,null,null,"E"]
[null,199,null,null,"E"]
[null,200,null,null,"E"]
[null,201,null,null,"E"]
[null,202,null,null,"E"]
[null,203,null,null,"E"]
[null,204,null,null,"E"]
[null,205,null,null,"E"]
[null,206,null,null,"E"]
[null,207,null,null,"E"]
[null,208,null,null,"E"]
[null,209,null,null,"E"]
[null,210,null,null,"E"]
[null,211,null,null,"E"]
[null,212,null,null,"E"]
[null,213,null,null,"E"]
[null,214,null,null,"E"]
[null,215,"FB974PD",26100,"E","TERMINAL"]
[null,216,null,null,"E"]
[null,217,null,null,"E"]
[null,218,null,null,"E"]
[null,219,null,null,"E"]
[null,220,null,null,"E"]
[null,221,null,null,"E"]
[null,222,null,null,"E"]
[null,223,null,null,"E"]
[null,224,null,null,"E"]
[null,225,null,null,"E"]
[null,226,null,null,"E"]
[null,227,null,null,"E"]
[null,228,null,null,"E"]
[null,229,null,null,"E"]
[null,230,null,null,"E"]
[null,231,null,null,"E"]
[null,232,null,null,"E"]
[null,233,null,null,"E"]
[null,234,null,null,"E"]
[null,235,null,null,"E"]
[null,236,null,null,"E"]
[null,237,null,null,"E"]
[null,238,null,null,"E"]
[null,239,null,null,"E"]
[null,240,null,null,"E"]
[null,241,null,null,"E"]
[null,242,null,null,"E"]
[null,243,null,null,"E"]
[null,244,null,null,"E"]
[null,245,null,null,"E"]
[null,246,null,null,"E"]
[null,247,null,null,"E"]
[null,248,"CS907HN",24200,"E","MP"]
[null,249,null,null,"E"]
[null,250,null,null,"E"]
[null,251,null,null,"E"]
[null,252,null,null,"E"]
[null,253,null,null,"E"]
[null,254,null,null,"E"]
[null,255,null,null,"E"]
[null,256,null,null,"E"]
[null,257,"CR471LM",25000,"E","PARATORI"]
[null,258,"EM936PS",28300,"E","PARATORI"]
[null,259," EM937PS",28300,"E","PARATORI"]
[null,260,"EM990YV",28300,"E","PARATORI"]
[null,261,"EM991YV",28300,"E","PARATORI"]
[null,262,"FG893NS",25600,"E","PARATORI"]
[null,263,"FG894NS",25600,"E","PARATORI"]
[null,264,"FG895NS",26300,"E","PARATORI"]
[null,265,"FG896NS",26300,"E","PARATORI"]
[null,266,"FG897NS",25600,"E","PARATORI"]
[null,267,null,null,"E"]
[null,268,null,null,"E"]
[null,269,null,null,"E"]
[null,270,null,null,"E"]
[null,271,null,null,"E"]
[null,272,null,null,"E"]
[null,273,null,null,"E"]
[null,274,null,null,"E"]
[null,275,null,null,"E"]
[null,276,null,null,"E"]
[null,277,null,null,"E"]
[null,278,null,null,"E"]
[null,279,null,null,"E"]
[null,280,null,null,"E"]
[null,281,null,null,"E"]
[null,282,null,null,"E"]
[null,283,null,null,"E"]
[null,284,null,null,"E"]
[null,285,null,null,"E"]
[null,286,null,null,"E"]
[null,287,null,null,"E"]
[null,288,null,null,"E"]
[null,289,null,null,"E"]
[null,290,null,null,"E"]
[null,291,null,null,"E"]
[null,292,null,null,"E"]
[null,293,null,null,"E"]
[null,294,null,null,"E"]
[null,295,null,null,"E"]
[null,296,null,null,"E"]
[null,297,null,null,"E"]
[null,298,null,null,"E"]
[null,299,null,null,"E"]
[null,300,null,null,"E"]
[null,301,null,null,"E"]
[null,302,null,null,"E"]
[null,303,null,null,"E"]
[null,304,null,null,"E"]
[null,305,null,null,"E"]
[null,306,null,null,"E"]
[null,307,null,null,"E"]
[null,308,null,null,"E"]
[null,309,null,null,"E"]
[null,310,null,null,"E"]
[null,311,null,null,"E"]
[null,312,null,null,"E"]
[null,313,null,null,"E"]
[null,314,null,null,"E"]
[null,315,null,null,"E"]
[null,316,null,null,"E"]
[null,317,null,null,"E"]
[null,318,null,null,"E"]
[null,319,null,null,"E"]
[null,320,null,null,"E"]
[null,321,null,null,"E"]
[null,322,null,null,"E"]
[null,323,null,null,"E"]
[null,324,null,null,"E"]
[null,325,null,null,"E"]
[null,326,null,null,"E"]
[null,327,null,null,"E"]
[null,328,null,null,"E"]
[null,329,null,null,"E"]
[null,330,null,null,"E"]
[null,331,null,null,"E"]
[null,332,null,null,"E"]
[null,333,null,null,"E"]
[null,334,null,null,"E"]
[null,335,null,null,"E"]
[null,336,null,null,"E"]
[null,337,null,null,"E"]
[null,338,null,null,"E"]
[null,339,null,null,"E"]
[null,340,null,null,"E"]
[null,341,null,null,"E"]
[null,342,null,null,"E"]
[null,343,null,null,"E"]
[null,344,null,null,"E"]
[null,345,null,null,"E"]
[null,346,null,null,"E"]
[null,347,null,null,"E"]
[null,348,null,null,"E"]
[null,349,null,null,"E"]
[null,350,null,null,"E"]
[null,351,null,null,"E"]
[null,352,null,null,"E"]
[null,353,null,null,"E"]
[null,354,null,null,"E"]
[null,355,null,null,"E"]
[null,356,null,null,"E"]
[null,357,null,null,"E"]
[null,358,null,null,"E"]
[null,359,null,null,"E"]
[null,360,null,null,"E"]
[null,361,null,null,"E"]
[null,362,null,null,"E"]
[null,363,null,null,"E"]
[null,364,null,null,"E"]
[null,365,null,null,"E"]
[null,366,null,null,"E"]
[null,367,null,null,"E"]
[null,368,null,null,"E"]
[null,369,null,null,"E"]
[null,370,null,null,"E"]
[null,371,null,null,"E"]
[null,372,null,null,"E"]
[null,373,null,null,"E"]
[null,374,null,null,"E"]
[null,375,null,null,"E"]
[null,376,null,null,"E"]
[null,377,null,null,"E"]
[null,378,null,null,"E"]
[null,379,null,null,"E"]
[null,380,null,null,"E"]
[null,381,null,null,"E"]
[null,382,null,null,"E"]
[null,383,null,null,"E"]
[null,384,null,null,"E"]
[null,385,null,null,"E"]
[null,386,null,null,"E"]
[null,387,null,null,"E"]
[null,388,null,null,"E"]
[null,389,null,null,"E"]
[null,390,null,null,"E"]
[null,391,null,null,"E"]
[null,392,null,null,"E"]
[null,393,null,null,"E"]
[null,394,null,null,"E"]
[null,395,null,null,"E"]
[null,396,null,null,"E"]
[null,397,null,null,"E"]
[null,398,null,null,"E"]
[null,399,null,null,"E"]
[null,400,null,null,"E"]
[null,401,null,null,"E"]
[null,402,null,null,"E"]
[null,403,null,null,"E"]
[null,404,null,null,"E"]
[null,405,null,null,"E"]
[null,406,null,null,"E"]
[null,407,null,null,"E"]
[null,408,null,null,"E"]
[null,409,null,null,"E"]
[null,410,null,null,"E"]
[null,411,null,null,"E"]
[null,412,null,null,"E"]
[null,413,null,null,"E"]
[null,414,null,null,"E"]
[null,415,null,null,"E"]
[null,416,null,null,"E"]
[null,417,null,null,"E"]
[null,418,null,null,"E"]
[null,419,null,null,"E"]
[null,420,null,null,"E"]
[null,421,null,null,"E"]
[null,422,null,null,"E"]
[null,423,null,null,"E"]
[null,424,null,null,"E"]
[null,425,null,null,"E"]
[null,426,null,null,"E"]
[null,427,null,null,"E"]
[null,428,null,null,"E"]
[null,429,null,null,"E"]
[null,430,null,null,"E"]
[null,431,null,null,"E"]
[null,432,null,null,"E"]
[null,433,null,null,"E"]
[null,434,null,null,"E"]
[null,435,null,null,"E"]
[null,436,null,null,"E"]
[null,437,null,null,"E"]
[null,438,null,null,"E"]
[null,439,null,null,"E"]
[null,440,null,null,"E"]
[null,441,null,null,"E"]
[null,442,null,null,"E"]
[null,443,null,null,"E"]
[null,444,null,null,"E"]
[null,445,null,null,"E"]
[null,446,null,null,"E"]
[null,447,null,null,"E"]
[null,448,null,null,"E"]
[null,449,null,null,"E"]
[null,450,null,null,"E"]
[null,451,null,null,"E"]
[null,452,null,null,"E"]
[null,453,null,null,"E"]
[null,454,null,null,"E"]
[null,455,null,null,"E"]
[null,456,null,null,"E"]
[null,457,null,null,"E"]
[null,458,null,null,"E"]
[null,459,null,null,"E"]
[null,460,null,null,"E"]
[null,461,null,null,"E"]
[null,462,null,null,"E"]
[null,463,null,null,"E"]
[null,464,null,null,"E"]
[null,465,null,null,"E"]
[null,466,null,null,"E"]
[null,467,null,null,"E"]
[null,468,null,null,"E"]
[null,469,null,null,"E"]
[null,470,null,null,"E"]
[null,471,null,null,"E"]
[null,472,null,null,"E"]
[null,473,null,null,"E"]
[null,474,null,null,"E"]
[null,475,null,null,"E"]
[null,476,null,null,"E"]
[null,477,null,null,"E"]
[null,478,null,null,"E"]
[null,479,null,null,"E"]
[null,480,null,null,"E"]
[null,481,null,null,"E"]
[null,482,null,null,"E"]
[null,483,null,null,"E"]
[null,484,null,null,"E"]
[null,485,null,null,"E"]
[null,486,null,null,"E"]
[null,487,null,null,"E"]
[null,488,null,null,"E"]
[null,489,null,null,"E"]
[null,490,null,null,"E"]
[null,491,null,null,"E"]
[null,492,null,null,"E"]
[null,493,null,null,"E"]
[null,494,null,null,"E"]
[null,495,null,null,"E"]
[null,496,null,null,"E"]
[null,497,null,null,"E"]
[null,498,null,null,"E"]

{"sheet":"MERCI","index":4,"n_rows":30,"n_cols":5,"rows_kept":30,"cut":false,"hidden":false,"merged":[[0,3,0,4]]}
[null,null,null,"DIZIONARIO"]
[null,null,null,"COILS ACCIAIO ","COILS"]
[null,null,null,"COILS ACCIAIO INOX","COILS"]
[null,null,null,"COILS A CALDO","COILS"]
[null,null,null,"COILS A FREDDO","COILS"]
[null,null,null,"COILS DECAPATI A ","COILS"]
[null,null,null,"COILS ZINCATI ","COILS"]
[null,null,null,"COILS PREVERNICIATI","COILS"]
[null,null,null,"COILS ELETTROGALVANIZZATI","COILS"]
[null,null,null,"NASTRI A FREDDO","COILS"]
[null,null,null,"COILS MAGNETICI","COILS"]
[null,null,null,"COILS ALUZINCATI","COILS"]
[null,null,null,"COILS A CALDO BUGNATI","COILS"]
[null,null,null,"COILS STRIATI","COILS"]
[null,null,null,"COILS FREDDO INOX","COILS"]
[null,"COILS",null,"COILS ALLUMINATI","COILS"]
[null,"BARRE",null,"COILS ZINCATI PREVERNICIATI","COILS"]
[null,"LAMIERE",null,"BARRE","BARRE"]
[null,"BLUMI",null,"LAMIERE","LAMIERE"]
[null,"TUBI",null,"BLUMI","BLUMI"]
[null,"PALANCOLE",null,"TUBI","TUBI"]
[null,"TRONCHI",null,"PALANCOLE","PALANCOLE"]
[null,"SEGATI",null,"TRONCHI","TRONCHI"]
[null,"BRAMME",null,"SEGATI","SEGATI"]
[null,"BILLETTE",null,"BRAMME","BRAMME"]
[null,"GHISA",null,"BILLETTE","BILLETTE"]
[null,"PROFILI ACC",null,"GHISA","GHISA"]
[null,"BANDA STA",null,"PROFILI ACCIAIO","PROFILI ACC"]
[null,"BANDA STA",null,"BANDA STAGNA","BANDA STA"]
[null,"COILS",null,"COILS SU BANDA STAGNA","BANDA STA"]